BEGIN:VCALENDAR
VERSION:2.0
PRODID:-//Village of New Concord, Ohio - ECPv6.15.20//NONSGML v1.0//EN
CALSCALE:GREGORIAN
METHOD:PUBLISH
X-ORIGINAL-URL:https://newconcord-oh.gov
X-WR-CALDESC:Events for Village of New Concord, Ohio
REFRESH-INTERVAL;VALUE=DURATION:PT1H
X-Robots-Tag:noindex
X-PUBLISHED-TTL:PT1H
BEGIN:VTIMEZONE
TZID:America/New_York
BEGIN:DAYLIGHT
TZOFFSETFROM:-0500
TZOFFSETTO:-0400
TZNAME:EDT
DTSTART:20250309T070000
END:DAYLIGHT
BEGIN:STANDARD
TZOFFSETFROM:-0400
TZOFFSETTO:-0500
TZNAME:EST
DTSTART:20251102T060000
END:STANDARD
BEGIN:DAYLIGHT
TZOFFSETFROM:-0500
TZOFFSETTO:-0400
TZNAME:EDT
DTSTART:20260308T070000
END:DAYLIGHT
BEGIN:STANDARD
TZOFFSETFROM:-0400
TZOFFSETTO:-0500
TZNAME:EST
DTSTART:20261101T060000
END:STANDARD
BEGIN:DAYLIGHT
TZOFFSETFROM:-0500
TZOFFSETTO:-0400
TZNAME:EDT
DTSTART:20270314T070000
END:DAYLIGHT
BEGIN:STANDARD
TZOFFSETFROM:-0400
TZOFFSETTO:-0500
TZNAME:EST
DTSTART:20271107T060000
END:STANDARD
END:VTIMEZONE
BEGIN:VEVENT
DTSTART;TZID=America/New_York:20260501T170000
DTEND;TZID=America/New_York:20260501T180000
DTSTAMP:20260424T073743
CREATED:20260420T173445Z
LAST-MODIFIED:20260420T173523Z
UID:10005660-1777654800-1777658400@newconcord-oh.gov
SUMMARY:LPIUNC Shirt Pickup
DESCRIPTION:Thank you for your help cleaning up our Village for Let’s Pick It Up New Concord! We appreciate your work and would like to give you a t-shirt to commemorate our 20th anniversary of the event! Please stop by 4 Comin May 1 from 5-6 PM to pick up your shirt!
URL:https://newconcord-oh.gov/event/shirt-pickup/
LOCATION:NCAARD porch
CATEGORIES:Community Events,NCAARD Events
ATTACH;FMTTYPE=image/jpeg:https://newconcord-oh.gov/wp-content/uploads/2026/04/20th-anniversary-shirt.jpg
END:VEVENT
END:VCALENDAR