BEGIN:VCALENDAR
VERSION:2.0
PRODID:-//Village of New Concord, Ohio - ECPv6.15.20//NONSGML v1.0//EN
CALSCALE:GREGORIAN
METHOD:PUBLISH
X-ORIGINAL-URL:https://newconcord-oh.gov
X-WR-CALDESC:Events for Village of New Concord, Ohio
REFRESH-INTERVAL;VALUE=DURATION:PT1H
X-Robots-Tag:noindex
X-PUBLISHED-TTL:PT1H
BEGIN:VTIMEZONE
TZID:America/New_York
BEGIN:DAYLIGHT
TZOFFSETFROM:-0500
TZOFFSETTO:-0400
TZNAME:EDT
DTSTART:20250309T070000
END:DAYLIGHT
BEGIN:STANDARD
TZOFFSETFROM:-0400
TZOFFSETTO:-0500
TZNAME:EST
DTSTART:20251102T060000
END:STANDARD
BEGIN:DAYLIGHT
TZOFFSETFROM:-0500
TZOFFSETTO:-0400
TZNAME:EDT
DTSTART:20260308T070000
END:DAYLIGHT
BEGIN:STANDARD
TZOFFSETFROM:-0400
TZOFFSETTO:-0500
TZNAME:EST
DTSTART:20261101T060000
END:STANDARD
BEGIN:DAYLIGHT
TZOFFSETFROM:-0500
TZOFFSETTO:-0400
TZNAME:EDT
DTSTART:20270314T070000
END:DAYLIGHT
BEGIN:STANDARD
TZOFFSETFROM:-0400
TZOFFSETTO:-0500
TZNAME:EST
DTSTART:20271107T060000
END:STANDARD
END:VTIMEZONE
BEGIN:VEVENT
DTSTART;TZID=America/New_York:20260321T180000
DTEND;TZID=America/New_York:20260321T210000
DTSTAMP:20260419T141847
CREATED:20251223T164730Z
LAST-MODIFIED:20260316T160338Z
UID:10004172-1774116000-1774126800@newconcord-oh.gov
SUMMARY:Zane Grey Movie & Popcorn
DESCRIPTION:Join us at the National Road and Zane Grey Museums for a screening of ”To the Last Man.”  \nSpots are limited so call (740) 826 – 3305 or email information.maem@gmail.com to register \nDue to limited reservations\, there will not be a meal.\nPopcorn will be available.
URL:https://newconcord-oh.gov/event/zane-grey-dinner-and-a-movie/
LOCATION:National Road and Zane Grey Museum\, 8850 East Pike\, Norwich\, OH\, 43767\, United States
CATEGORIES:Community Events
ATTACH;FMTTYPE=image/jpeg:https://newconcord-oh.gov/wp-content/uploads/2025/12/Zane-Grey-Dinner-a-Movie.jpg
END:VEVENT
END:VCALENDAR