BEGIN:VCALENDAR
VERSION:2.0
PRODID:-//Village of New Concord, Ohio - ECPv6.15.20//NONSGML v1.0//EN
CALSCALE:GREGORIAN
METHOD:PUBLISH
X-WR-CALNAME:Village of New Concord, Ohio
X-ORIGINAL-URL:https://newconcord-oh.gov
X-WR-CALDESC:Events for Village of New Concord, Ohio
REFRESH-INTERVAL;VALUE=DURATION:PT1H
X-Robots-Tag:noindex
X-PUBLISHED-TTL:PT1H
BEGIN:VTIMEZONE
TZID:America/New_York
BEGIN:DAYLIGHT
TZOFFSETFROM:-0500
TZOFFSETTO:-0400
TZNAME:EDT
DTSTART:20250309T070000
END:DAYLIGHT
BEGIN:STANDARD
TZOFFSETFROM:-0400
TZOFFSETTO:-0500
TZNAME:EST
DTSTART:20251102T060000
END:STANDARD
BEGIN:DAYLIGHT
TZOFFSETFROM:-0500
TZOFFSETTO:-0400
TZNAME:EDT
DTSTART:20260308T070000
END:DAYLIGHT
BEGIN:STANDARD
TZOFFSETFROM:-0400
TZOFFSETTO:-0500
TZNAME:EST
DTSTART:20261101T060000
END:STANDARD
BEGIN:DAYLIGHT
TZOFFSETFROM:-0500
TZOFFSETTO:-0400
TZNAME:EDT
DTSTART:20270314T070000
END:DAYLIGHT
BEGIN:STANDARD
TZOFFSETFROM:-0400
TZOFFSETTO:-0500
TZNAME:EST
DTSTART:20271107T060000
END:STANDARD
END:VTIMEZONE
BEGIN:VEVENT
DTSTART;TZID=America/New_York:20260416T110000
DTEND;TZID=America/New_York:20260416T120000
DTSTAMP:20260421T125730
CREATED:20260112T201617Z
LAST-MODIFIED:20260126T024437Z
UID:10004405-1776337200-1776340800@newconcord-oh.gov
SUMMARY:Toddler Time
DESCRIPTION:Get ready to socialize with other toddlers this winter and spring on Thursdays at 11 AM! Balls\, hula hoops\, toys\, parachute\, storytime … and more! Muskingum University students in the Education Dept. lead this hour of fun! Come play with us! \nWinter Session: Jan. 29\, Feb. 5\, 12\, and 19\nSpring Session: Mar. 19\, 26\, Apr. 9\, and 16 \n$2 / toddler (up to age 5) each session \n Register
URL:https://newconcord-oh.gov/event/toddler-time/2026-04-16/
LOCATION:John Glenn Gym – Muskingum University\, NEW CONCORD\, OH\, 43762\, United States
CATEGORIES:Community Events,NCAARD Events
ATTACH;FMTTYPE=image/png:https://newconcord-oh.gov/wp-content/uploads/2026/01/Winter-2026.png
END:VEVENT
BEGIN:VEVENT
DTSTART;TZID=America/New_York:20260409T110000
DTEND;TZID=America/New_York:20260409T120000
DTSTAMP:20260421T125730
CREATED:20260112T201617Z
LAST-MODIFIED:20260126T024437Z
UID:10004404-1775732400-1775736000@newconcord-oh.gov
SUMMARY:Toddler Time
DESCRIPTION:Get ready to socialize with other toddlers this winter and spring on Thursdays at 11 AM! Balls\, hula hoops\, toys\, parachute\, storytime … and more! Muskingum University students in the Education Dept. lead this hour of fun! Come play with us! \nWinter Session: Jan. 29\, Feb. 5\, 12\, and 19\nSpring Session: Mar. 19\, 26\, Apr. 9\, and 16 \n$2 / toddler (up to age 5) each session \n Register
URL:https://newconcord-oh.gov/event/toddler-time/2026-04-09/
LOCATION:John Glenn Gym – Muskingum University\, NEW CONCORD\, OH\, 43762\, United States
CATEGORIES:Community Events,NCAARD Events
ATTACH;FMTTYPE=image/png:https://newconcord-oh.gov/wp-content/uploads/2026/01/Winter-2026.png
END:VEVENT
BEGIN:VEVENT
DTSTART;TZID=America/New_York:20260402T110000
DTEND;TZID=America/New_York:20260402T120000
DTSTAMP:20260421T125730
CREATED:20260112T201617Z
LAST-MODIFIED:20260126T024437Z
UID:10004403-1775127600-1775131200@newconcord-oh.gov
SUMMARY:Toddler Time
DESCRIPTION:Get ready to socialize with other toddlers this winter and spring on Thursdays at 11 AM! Balls\, hula hoops\, toys\, parachute\, storytime … and more! Muskingum University students in the Education Dept. lead this hour of fun! Come play with us! \nWinter Session: Jan. 29\, Feb. 5\, 12\, and 19\nSpring Session: Mar. 19\, 26\, Apr. 9\, and 16 \n$2 / toddler (up to age 5) each session \n Register
URL:https://newconcord-oh.gov/event/toddler-time/2026-04-02/
LOCATION:John Glenn Gym – Muskingum University\, NEW CONCORD\, OH\, 43762\, United States
CATEGORIES:Community Events,NCAARD Events
ATTACH;FMTTYPE=image/png:https://newconcord-oh.gov/wp-content/uploads/2026/01/Winter-2026.png
END:VEVENT
BEGIN:VEVENT
DTSTART;TZID=America/New_York:20260326T110000
DTEND;TZID=America/New_York:20260326T120000
DTSTAMP:20260421T125730
CREATED:20260112T201617Z
LAST-MODIFIED:20260126T024437Z
UID:10004402-1774522800-1774526400@newconcord-oh.gov
SUMMARY:Toddler Time
DESCRIPTION:Get ready to socialize with other toddlers this winter and spring on Thursdays at 11 AM! Balls\, hula hoops\, toys\, parachute\, storytime … and more! Muskingum University students in the Education Dept. lead this hour of fun! Come play with us! \nWinter Session: Jan. 29\, Feb. 5\, 12\, and 19\nSpring Session: Mar. 19\, 26\, Apr. 9\, and 16 \n$2 / toddler (up to age 5) each session \n Register
URL:https://newconcord-oh.gov/event/toddler-time/2026-03-26/
LOCATION:John Glenn Gym – Muskingum University\, NEW CONCORD\, OH\, 43762\, United States
CATEGORIES:Community Events,NCAARD Events
ATTACH;FMTTYPE=image/png:https://newconcord-oh.gov/wp-content/uploads/2026/01/Winter-2026.png
END:VEVENT
END:VCALENDAR