BEGIN:VCALENDAR
VERSION:2.0
PRODID:-//Village of New Concord, Ohio - ECPv6.15.20//NONSGML v1.0//EN
CALSCALE:GREGORIAN
METHOD:PUBLISH
X-ORIGINAL-URL:https://newconcord-oh.gov
X-WR-CALDESC:Events for Village of New Concord, Ohio
REFRESH-INTERVAL;VALUE=DURATION:PT1H
X-Robots-Tag:noindex
X-PUBLISHED-TTL:PT1H
BEGIN:VTIMEZONE
TZID:America/New_York
BEGIN:DAYLIGHT
TZOFFSETFROM:-0500
TZOFFSETTO:-0400
TZNAME:EDT
DTSTART:20250309T070000
END:DAYLIGHT
BEGIN:STANDARD
TZOFFSETFROM:-0400
TZOFFSETTO:-0500
TZNAME:EST
DTSTART:20251102T060000
END:STANDARD
BEGIN:DAYLIGHT
TZOFFSETFROM:-0500
TZOFFSETTO:-0400
TZNAME:EDT
DTSTART:20260308T070000
END:DAYLIGHT
BEGIN:STANDARD
TZOFFSETFROM:-0400
TZOFFSETTO:-0500
TZNAME:EST
DTSTART:20261101T060000
END:STANDARD
BEGIN:DAYLIGHT
TZOFFSETFROM:-0500
TZOFFSETTO:-0400
TZNAME:EDT
DTSTART:20270314T070000
END:DAYLIGHT
BEGIN:STANDARD
TZOFFSETFROM:-0400
TZOFFSETTO:-0500
TZNAME:EST
DTSTART:20271107T060000
END:STANDARD
END:VTIMEZONE
BEGIN:VEVENT
DTSTART;TZID=America/New_York:20260628T140000
DTEND;TZID=America/New_York:20260628T160000
DTSTAMP:20260425T175425
CREATED:20260413T145158Z
LAST-MODIFIED:20260413T145739Z
UID:10005658-1782655200-1782662400@newconcord-oh.gov
SUMMARY:Kayak on the Reservoir Day
DESCRIPTION:Join us for an afternoon on the reservoir! Enjoy the outdoors on the water in this beautiful habitat. Kayaks and life vests provided.\nRegister below to reserve your time slot!\n2:00-2:40\n2:40-3:20\n3:20-4:00 \n Register
URL:https://newconcord-oh.gov/event/kayak-on-the-reservoir-day/
LOCATION:New Concord Reservoir\, Shadyside Drive\, NEW CONCORD\, OH\, 43762\, United States
CATEGORIES:Community Events,NCAARD Events
ATTACH;FMTTYPE=image/jpeg:https://newconcord-oh.gov/wp-content/uploads/2024/05/IMG_9502.jpg
END:VEVENT
BEGIN:VEVENT
DTSTART;TZID=America/New_York:20260629T173000
DTEND;TZID=America/New_York:20260629T183000
DTSTAMP:20260425T175425
CREATED:20260423T204819Z
LAST-MODIFIED:20260423T204819Z
UID:10005674-1782754200-1782757800@newconcord-oh.gov
SUMMARY:Step and Core
DESCRIPTION:New summer session! Looking for a full body workout? Join us for a little step and a little core as we add light weights into the mix! Class meets at the Chess Center fitness room on MU’s campus Mondays at 5:30 PM. \n4-week session meets June 8\, 15\, 22\, and 29 \n$8 / class or $25 for the full session \nRegister
URL:https://newconcord-oh.gov/event/step-and-core/2026-06-29/
LOCATION:Muskingum University Chess Center\, 10 College Dr\, NEW CONCORD\, OH\, 43762\, United States
CATEGORIES:Community Events,NCAARD Fitness
END:VEVENT
BEGIN:VEVENT
DTSTART;TZID=America/New_York:20260630T190000
DTEND;TZID=America/New_York:20260630T200000
DTSTAMP:20260425T175425
CREATED:20260423T204109Z
LAST-MODIFIED:20260423T204221Z
UID:10005666-1782846000-1782849600@newconcord-oh.gov
SUMMARY:Yoga
DESCRIPTION:Enjoy your summer with two 4-week sessions of yoga with experienced yoga instructor\, Megyen Green.  Class meets at 7 PM Tuesdays at the United Methodist Church. \nDates:\nSummer Session I: June 9\, 16\, 23\, 30\nSummer Session II: July 7\, 14\, 21\, 28\nMakeup date: Aug. 4 \nPricing:\nOne class = $8\nOne session (4 classes) = $25 ($32 value)\nTwo sessions (8 classes) = $45 ($64 value) \nRegister
URL:https://newconcord-oh.gov/event/yoga-2/2026-06-30/
LOCATION:United Methodist Church\, 20 East High Street\, NEW CONCORD\, OH\, 43762\, United States
CATEGORIES:Community Events,NCAARD Fitness
ATTACH;FMTTYPE=image/png:https://newconcord-oh.gov/wp-content/uploads/2024/12/IMG_4695.png
END:VEVENT
BEGIN:VEVENT
DTSTART;TZID=America/New_York:20260702T173000
DTEND;TZID=America/New_York:20260702T183000
DTSTAMP:20260425T175425
CREATED:20260424T185741Z
LAST-MODIFIED:20260424T185754Z
UID:10005687-1783013400-1783017000@newconcord-oh.gov
SUMMARY:POUND
DESCRIPTION:Hit those Ripstix and POUND to the beat with Gretchen Combs in this fun high-energy workout this summer! Class meets at 5:30 PM Thursdays at the United Methodist Church. \n$8 / class or sign up for sessions to save! \nSummer Session I (4 weeks): June 4\, 11\, 18\, 25 – $25 \nSummer Session II (4 weeks): July 9\, 16\, 23\, 30 – $25 \nBoth sessions – $45 \nWe are also planning a POUND and POUR event in August at Georgetown Winery. Stay tuned! \nRegister
URL:https://newconcord-oh.gov/event/37961/2026-07-02/
LOCATION:United Methodist Church\, 20 East High Street\, NEW CONCORD\, OH\, 43762\, United States
CATEGORIES:NCAARD Events,NCAARD Fitness
ATTACH;FMTTYPE=image/png:https://newconcord-oh.gov/wp-content/uploads/2024/12/IMG_4697.png
END:VEVENT
END:VCALENDAR