BEGIN:VCALENDAR
VERSION:2.0
PRODID:-//Village of New Concord, Ohio - ECPv6.15.20//NONSGML v1.0//EN
CALSCALE:GREGORIAN
METHOD:PUBLISH
X-WR-CALNAME:Village of New Concord, Ohio
X-ORIGINAL-URL:https://newconcord-oh.gov
X-WR-CALDESC:Events for Village of New Concord, Ohio
REFRESH-INTERVAL;VALUE=DURATION:PT1H
X-Robots-Tag:noindex
X-PUBLISHED-TTL:PT1H
BEGIN:VTIMEZONE
TZID:America/New_York
BEGIN:DAYLIGHT
TZOFFSETFROM:-0500
TZOFFSETTO:-0400
TZNAME:EDT
DTSTART:20250309T070000
END:DAYLIGHT
BEGIN:STANDARD
TZOFFSETFROM:-0400
TZOFFSETTO:-0500
TZNAME:EST
DTSTART:20251102T060000
END:STANDARD
BEGIN:DAYLIGHT
TZOFFSETFROM:-0500
TZOFFSETTO:-0400
TZNAME:EDT
DTSTART:20260308T070000
END:DAYLIGHT
BEGIN:STANDARD
TZOFFSETFROM:-0400
TZOFFSETTO:-0500
TZNAME:EST
DTSTART:20261101T060000
END:STANDARD
BEGIN:DAYLIGHT
TZOFFSETFROM:-0500
TZOFFSETTO:-0400
TZNAME:EDT
DTSTART:20270314T070000
END:DAYLIGHT
BEGIN:STANDARD
TZOFFSETFROM:-0400
TZOFFSETTO:-0500
TZNAME:EST
DTSTART:20271107T060000
END:STANDARD
END:VTIMEZONE
BEGIN:VEVENT
DTSTART;TZID=America/New_York:20260604T173000
DTEND;TZID=America/New_York:20260604T183000
DTSTAMP:20260425T063722
CREATED:20260424T185741Z
LAST-MODIFIED:20260424T185754Z
UID:10005683-1780594200-1780597800@newconcord-oh.gov
SUMMARY:POUND
DESCRIPTION:Hit those Ripstix and POUND to the beat with Gretchen Combs in this fun high-energy workout this summer! Class meets at 5:30 PM Thursdays at the United Methodist Church. \n$8 / class or sign up for sessions to save! \nSummer Session I (4 weeks): June 4\, 11\, 18\, 25 – $25 \nSummer Session II (4 weeks): July 9\, 16\, 23\, 30 – $25 \nBoth sessions – $45 \nWe are also planning a POUND and POUR event in August at Georgetown Winery. Stay tuned! \nRegister
URL:https://newconcord-oh.gov/event/37961/2026-06-04/
LOCATION:United Methodist Church\, 20 East High Street\, NEW CONCORD\, OH\, 43762\, United States
CATEGORIES:NCAARD Events,NCAARD Fitness
ATTACH;FMTTYPE=image/png:https://newconcord-oh.gov/wp-content/uploads/2024/12/IMG_4697.png
END:VEVENT
BEGIN:VEVENT
DTSTART;TZID=America/New_York:20260611T173000
DTEND;TZID=America/New_York:20260611T183000
DTSTAMP:20260425T063722
CREATED:20260424T185741Z
LAST-MODIFIED:20260424T185754Z
UID:10005684-1781199000-1781202600@newconcord-oh.gov
SUMMARY:POUND
DESCRIPTION:Hit those Ripstix and POUND to the beat with Gretchen Combs in this fun high-energy workout this summer! Class meets at 5:30 PM Thursdays at the United Methodist Church. \n$8 / class or sign up for sessions to save! \nSummer Session I (4 weeks): June 4\, 11\, 18\, 25 – $25 \nSummer Session II (4 weeks): July 9\, 16\, 23\, 30 – $25 \nBoth sessions – $45 \nWe are also planning a POUND and POUR event in August at Georgetown Winery. Stay tuned! \nRegister
URL:https://newconcord-oh.gov/event/37961/2026-06-11/
LOCATION:United Methodist Church\, 20 East High Street\, NEW CONCORD\, OH\, 43762\, United States
CATEGORIES:NCAARD Events,NCAARD Fitness
ATTACH;FMTTYPE=image/png:https://newconcord-oh.gov/wp-content/uploads/2024/12/IMG_4697.png
END:VEVENT
BEGIN:VEVENT
DTSTART;TZID=America/New_York:20260618T173000
DTEND;TZID=America/New_York:20260618T183000
DTSTAMP:20260425T063722
CREATED:20260424T185741Z
LAST-MODIFIED:20260424T185754Z
UID:10005685-1781803800-1781807400@newconcord-oh.gov
SUMMARY:POUND
DESCRIPTION:Hit those Ripstix and POUND to the beat with Gretchen Combs in this fun high-energy workout this summer! Class meets at 5:30 PM Thursdays at the United Methodist Church. \n$8 / class or sign up for sessions to save! \nSummer Session I (4 weeks): June 4\, 11\, 18\, 25 – $25 \nSummer Session II (4 weeks): July 9\, 16\, 23\, 30 – $25 \nBoth sessions – $45 \nWe are also planning a POUND and POUR event in August at Georgetown Winery. Stay tuned! \nRegister
URL:https://newconcord-oh.gov/event/37961/2026-06-18/
LOCATION:United Methodist Church\, 20 East High Street\, NEW CONCORD\, OH\, 43762\, United States
CATEGORIES:NCAARD Events,NCAARD Fitness
ATTACH;FMTTYPE=image/png:https://newconcord-oh.gov/wp-content/uploads/2024/12/IMG_4697.png
END:VEVENT
BEGIN:VEVENT
DTSTART;TZID=America/New_York:20260625T173000
DTEND;TZID=America/New_York:20260625T183000
DTSTAMP:20260425T063722
CREATED:20260424T185741Z
LAST-MODIFIED:20260424T185754Z
UID:10005686-1782408600-1782412200@newconcord-oh.gov
SUMMARY:POUND
DESCRIPTION:Hit those Ripstix and POUND to the beat with Gretchen Combs in this fun high-energy workout this summer! Class meets at 5:30 PM Thursdays at the United Methodist Church. \n$8 / class or sign up for sessions to save! \nSummer Session I (4 weeks): June 4\, 11\, 18\, 25 – $25 \nSummer Session II (4 weeks): July 9\, 16\, 23\, 30 – $25 \nBoth sessions – $45 \nWe are also planning a POUND and POUR event in August at Georgetown Winery. Stay tuned! \nRegister
URL:https://newconcord-oh.gov/event/37961/2026-06-25/
LOCATION:United Methodist Church\, 20 East High Street\, NEW CONCORD\, OH\, 43762\, United States
CATEGORIES:NCAARD Events,NCAARD Fitness
ATTACH;FMTTYPE=image/png:https://newconcord-oh.gov/wp-content/uploads/2024/12/IMG_4697.png
END:VEVENT
BEGIN:VEVENT
DTSTART;TZID=America/New_York:20260702T173000
DTEND;TZID=America/New_York:20260702T183000
DTSTAMP:20260425T063722
CREATED:20260424T185741Z
LAST-MODIFIED:20260424T185754Z
UID:10005687-1783013400-1783017000@newconcord-oh.gov
SUMMARY:POUND
DESCRIPTION:Hit those Ripstix and POUND to the beat with Gretchen Combs in this fun high-energy workout this summer! Class meets at 5:30 PM Thursdays at the United Methodist Church. \n$8 / class or sign up for sessions to save! \nSummer Session I (4 weeks): June 4\, 11\, 18\, 25 – $25 \nSummer Session II (4 weeks): July 9\, 16\, 23\, 30 – $25 \nBoth sessions – $45 \nWe are also planning a POUND and POUR event in August at Georgetown Winery. Stay tuned! \nRegister
URL:https://newconcord-oh.gov/event/37961/2026-07-02/
LOCATION:United Methodist Church\, 20 East High Street\, NEW CONCORD\, OH\, 43762\, United States
CATEGORIES:NCAARD Events,NCAARD Fitness
ATTACH;FMTTYPE=image/png:https://newconcord-oh.gov/wp-content/uploads/2024/12/IMG_4697.png
END:VEVENT
BEGIN:VEVENT
DTSTART;TZID=America/New_York:20260709T173000
DTEND;TZID=America/New_York:20260709T183000
DTSTAMP:20260425T063722
CREATED:20260424T185741Z
LAST-MODIFIED:20260424T185754Z
UID:10005688-1783618200-1783621800@newconcord-oh.gov
SUMMARY:POUND
DESCRIPTION:Hit those Ripstix and POUND to the beat with Gretchen Combs in this fun high-energy workout this summer! Class meets at 5:30 PM Thursdays at the United Methodist Church. \n$8 / class or sign up for sessions to save! \nSummer Session I (4 weeks): June 4\, 11\, 18\, 25 – $25 \nSummer Session II (4 weeks): July 9\, 16\, 23\, 30 – $25 \nBoth sessions – $45 \nWe are also planning a POUND and POUR event in August at Georgetown Winery. Stay tuned! \nRegister
URL:https://newconcord-oh.gov/event/37961/2026-07-09/
LOCATION:United Methodist Church\, 20 East High Street\, NEW CONCORD\, OH\, 43762\, United States
CATEGORIES:NCAARD Events,NCAARD Fitness
ATTACH;FMTTYPE=image/png:https://newconcord-oh.gov/wp-content/uploads/2024/12/IMG_4697.png
END:VEVENT
BEGIN:VEVENT
DTSTART;TZID=America/New_York:20260716T173000
DTEND;TZID=America/New_York:20260716T183000
DTSTAMP:20260425T063722
CREATED:20260424T185741Z
LAST-MODIFIED:20260424T185754Z
UID:10005689-1784223000-1784226600@newconcord-oh.gov
SUMMARY:POUND
DESCRIPTION:Hit those Ripstix and POUND to the beat with Gretchen Combs in this fun high-energy workout this summer! Class meets at 5:30 PM Thursdays at the United Methodist Church. \n$8 / class or sign up for sessions to save! \nSummer Session I (4 weeks): June 4\, 11\, 18\, 25 – $25 \nSummer Session II (4 weeks): July 9\, 16\, 23\, 30 – $25 \nBoth sessions – $45 \nWe are also planning a POUND and POUR event in August at Georgetown Winery. Stay tuned! \nRegister
URL:https://newconcord-oh.gov/event/37961/2026-07-16/
LOCATION:United Methodist Church\, 20 East High Street\, NEW CONCORD\, OH\, 43762\, United States
CATEGORIES:NCAARD Events,NCAARD Fitness
ATTACH;FMTTYPE=image/png:https://newconcord-oh.gov/wp-content/uploads/2024/12/IMG_4697.png
END:VEVENT
BEGIN:VEVENT
DTSTART;TZID=America/New_York:20260723T173000
DTEND;TZID=America/New_York:20260723T183000
DTSTAMP:20260425T063722
CREATED:20260424T185741Z
LAST-MODIFIED:20260424T185754Z
UID:10005690-1784827800-1784831400@newconcord-oh.gov
SUMMARY:POUND
DESCRIPTION:Hit those Ripstix and POUND to the beat with Gretchen Combs in this fun high-energy workout this summer! Class meets at 5:30 PM Thursdays at the United Methodist Church. \n$8 / class or sign up for sessions to save! \nSummer Session I (4 weeks): June 4\, 11\, 18\, 25 – $25 \nSummer Session II (4 weeks): July 9\, 16\, 23\, 30 – $25 \nBoth sessions – $45 \nWe are also planning a POUND and POUR event in August at Georgetown Winery. Stay tuned! \nRegister
URL:https://newconcord-oh.gov/event/37961/2026-07-23/
LOCATION:United Methodist Church\, 20 East High Street\, NEW CONCORD\, OH\, 43762\, United States
CATEGORIES:NCAARD Events,NCAARD Fitness
ATTACH;FMTTYPE=image/png:https://newconcord-oh.gov/wp-content/uploads/2024/12/IMG_4697.png
END:VEVENT
BEGIN:VEVENT
DTSTART;TZID=America/New_York:20260730T173000
DTEND;TZID=America/New_York:20260730T183000
DTSTAMP:20260425T063722
CREATED:20260424T185741Z
LAST-MODIFIED:20260424T185754Z
UID:10005691-1785432600-1785436200@newconcord-oh.gov
SUMMARY:POUND
DESCRIPTION:Hit those Ripstix and POUND to the beat with Gretchen Combs in this fun high-energy workout this summer! Class meets at 5:30 PM Thursdays at the United Methodist Church. \n$8 / class or sign up for sessions to save! \nSummer Session I (4 weeks): June 4\, 11\, 18\, 25 – $25 \nSummer Session II (4 weeks): July 9\, 16\, 23\, 30 – $25 \nBoth sessions – $45 \nWe are also planning a POUND and POUR event in August at Georgetown Winery. Stay tuned! \nRegister
URL:https://newconcord-oh.gov/event/37961/2026-07-30/
LOCATION:United Methodist Church\, 20 East High Street\, NEW CONCORD\, OH\, 43762\, United States
CATEGORIES:NCAARD Events,NCAARD Fitness
ATTACH;FMTTYPE=image/png:https://newconcord-oh.gov/wp-content/uploads/2024/12/IMG_4697.png
END:VEVENT
END:VCALENDAR