BEGIN:VCALENDAR
VERSION:2.0
PRODID:-//Village of New Concord, Ohio - ECPv6.15.20//NONSGML v1.0//EN
CALSCALE:GREGORIAN
METHOD:PUBLISH
X-ORIGINAL-URL:https://newconcord-oh.gov
X-WR-CALDESC:Events for Village of New Concord, Ohio
REFRESH-INTERVAL;VALUE=DURATION:PT1H
X-Robots-Tag:noindex
X-PUBLISHED-TTL:PT1H
BEGIN:VTIMEZONE
TZID:America/New_York
BEGIN:DAYLIGHT
TZOFFSETFROM:-0500
TZOFFSETTO:-0400
TZNAME:EDT
DTSTART:20250309T070000
END:DAYLIGHT
BEGIN:STANDARD
TZOFFSETFROM:-0400
TZOFFSETTO:-0500
TZNAME:EST
DTSTART:20251102T060000
END:STANDARD
BEGIN:DAYLIGHT
TZOFFSETFROM:-0500
TZOFFSETTO:-0400
TZNAME:EDT
DTSTART:20260308T070000
END:DAYLIGHT
BEGIN:STANDARD
TZOFFSETFROM:-0400
TZOFFSETTO:-0500
TZNAME:EST
DTSTART:20261101T060000
END:STANDARD
BEGIN:DAYLIGHT
TZOFFSETFROM:-0500
TZOFFSETTO:-0400
TZNAME:EDT
DTSTART:20270314T070000
END:DAYLIGHT
BEGIN:STANDARD
TZOFFSETFROM:-0400
TZOFFSETTO:-0500
TZNAME:EST
DTSTART:20271107T060000
END:STANDARD
END:VTIMEZONE
BEGIN:VEVENT
DTSTART;TZID=America/New_York:20260608T173000
DTEND;TZID=America/New_York:20260608T183000
DTSTAMP:20260423T194758
CREATED:20260423T204819Z
LAST-MODIFIED:20260423T204819Z
UID:10005671-1780939800-1780943400@newconcord-oh.gov
SUMMARY:Step and Core
DESCRIPTION:New summer session! Looking for a full body workout? Join us for a little step and a little core as we add light weights into the mix! Class meets at the Chess Center fitness room on MU’s campus Mondays at 5:30 PM. \n4-week session meets June 8\, 15\, 22\, and 29 \n$8 / class or $25 for the full session \nRegister
URL:https://newconcord-oh.gov/event/step-and-core/2026-06-08/
LOCATION:Muskingum University Chess Center\, 10 College Dr\, NEW CONCORD\, OH\, 43762\, United States
CATEGORIES:Community Events,NCAARD Fitness
END:VEVENT
BEGIN:VEVENT
DTSTART;TZID=America/New_York:20260608T183000
DTEND;TZID=America/New_York:20260608T193000
DTSTAMP:20260423T194758
CREATED:20260126T022903Z
LAST-MODIFIED:20260126T022903Z
UID:10004349-1780943400-1780947000@newconcord-oh.gov
SUMMARY:Village Council Meeting
DESCRIPTION:
URL:https://newconcord-oh.gov/event/village-council-meeting/2026-06-08/
LOCATION:Village Hall\, 2 W. Main Street\, NEW CONCORD\, OH\, 43762\, United States
CATEGORIES:Public Meetings
END:VEVENT
BEGIN:VEVENT
DTSTART;TZID=America/New_York:20260609T190000
DTEND;TZID=America/New_York:20260609T200000
DTSTAMP:20260423T194758
CREATED:20260423T204109Z
LAST-MODIFIED:20260423T204221Z
UID:10005663-1781031600-1781035200@newconcord-oh.gov
SUMMARY:Yoga
DESCRIPTION:Enjoy your summer with two 4-week sessions of yoga with experienced yoga instructor\, Megyen Green.  Class meets at 7 PM Tuesdays at the United Methodist Church. \nDates:\nSummer Session I: June 9\, 16\, 23\, 30\nSummer Session II: July 7\, 14\, 21\, 28\nMakeup date: Aug. 4 \nPricing:\nOne class = $8\nOne session (4 classes) = $25 ($32 value)\nTwo sessions (8 classes) = $45 ($64 value) \nRegister
URL:https://newconcord-oh.gov/event/yoga-2/2026-06-09/
LOCATION:United Methodist Church\, 20 East High Street\, NEW CONCORD\, OH\, 43762\, United States
CATEGORIES:Community Events,NCAARD Fitness
ATTACH;FMTTYPE=image/png:https://newconcord-oh.gov/wp-content/uploads/2024/12/IMG_4695.png
END:VEVENT
BEGIN:VEVENT
DTSTART;TZID=America/New_York:20260609T190000
DTEND;TZID=America/New_York:20260609T210000
DTSTAMP:20260423T194758
CREATED:20260411T210622Z
LAST-MODIFIED:20260423T181458Z
UID:10005650-1781031600-1781038800@newconcord-oh.gov
SUMMARY:Celebrate New Concord
DESCRIPTION:Summer Entertainment Series \nJune 9 – Jake “Barefoot” McCoy\nJune 23 – Haley Bundy\n*July 11 – Muskingum Valley Symphonic Winds  ‘\nJuly 28 – Roscommons Sessions\nAugust 11 – Northwest Territory\nAugust 25 – Tony Hagood Quartet \nAll shows begin at 7 PM at Village Park \n*Special concert in conjunction with the America 250 Celebration 8 PM
URL:https://newconcord-oh.gov/event/celebrate-new-concord/2026-06-09/
LOCATION:Village Park\, 2 W Main St\, NEW CONCORD\, OH\, 43762\, United States
CATEGORIES:Community Events
ATTACH;FMTTYPE=image/png:https://newconcord-oh.gov/wp-content/uploads/2026/04/2026-Season-Poster-web.png
END:VEVENT
BEGIN:VEVENT
DTSTART;TZID=America/New_York:20260615T173000
DTEND;TZID=America/New_York:20260615T183000
DTSTAMP:20260423T194758
CREATED:20260423T204819Z
LAST-MODIFIED:20260423T204819Z
UID:10005672-1781544600-1781548200@newconcord-oh.gov
SUMMARY:Step and Core
DESCRIPTION:New summer session! Looking for a full body workout? Join us for a little step and a little core as we add light weights into the mix! Class meets at the Chess Center fitness room on MU’s campus Mondays at 5:30 PM. \n4-week session meets June 8\, 15\, 22\, and 29 \n$8 / class or $25 for the full session \nRegister
URL:https://newconcord-oh.gov/event/step-and-core/2026-06-15/
LOCATION:Muskingum University Chess Center\, 10 College Dr\, NEW CONCORD\, OH\, 43762\, United States
CATEGORIES:Community Events,NCAARD Fitness
END:VEVENT
BEGIN:VEVENT
DTSTART;TZID=America/New_York:20260616T190000
DTEND;TZID=America/New_York:20260616T200000
DTSTAMP:20260423T194758
CREATED:20260423T204109Z
LAST-MODIFIED:20260423T204221Z
UID:10005664-1781636400-1781640000@newconcord-oh.gov
SUMMARY:Yoga
DESCRIPTION:Enjoy your summer with two 4-week sessions of yoga with experienced yoga instructor\, Megyen Green.  Class meets at 7 PM Tuesdays at the United Methodist Church. \nDates:\nSummer Session I: June 9\, 16\, 23\, 30\nSummer Session II: July 7\, 14\, 21\, 28\nMakeup date: Aug. 4 \nPricing:\nOne class = $8\nOne session (4 classes) = $25 ($32 value)\nTwo sessions (8 classes) = $45 ($64 value) \nRegister
URL:https://newconcord-oh.gov/event/yoga-2/2026-06-16/
LOCATION:United Methodist Church\, 20 East High Street\, NEW CONCORD\, OH\, 43762\, United States
CATEGORIES:Community Events,NCAARD Fitness
ATTACH;FMTTYPE=image/png:https://newconcord-oh.gov/wp-content/uploads/2024/12/IMG_4695.png
END:VEVENT
BEGIN:VEVENT
DTSTART;VALUE=DATE:20260618
DTEND;VALUE=DATE:20260619
DTSTAMP:20260423T194758
CREATED:20260328T221457Z
LAST-MODIFIED:20260328T221647Z
UID:10005236-1781740800-1781827199@newconcord-oh.gov
SUMMARY:MU Men's Soccer Youth Camp
DESCRIPTION:K-5
URL:https://newconcord-oh.gov/event/mu-mens-soccer-youth-camp/2026-06-18/
LOCATION:OH
CATEGORIES:Community Events
ATTACH;FMTTYPE=image/jpeg:https://newconcord-oh.gov/wp-content/uploads/2026/03/IMG_3051.jpg
END:VEVENT
BEGIN:VEVENT
DTSTART;VALUE=DATE:20260619
DTEND;VALUE=DATE:20260620
DTSTAMP:20260423T194758
CREATED:20260328T221457Z
LAST-MODIFIED:20260328T221647Z
UID:10005237-1781827200-1781913599@newconcord-oh.gov
SUMMARY:MU Men's Soccer Youth Camp
DESCRIPTION:K-5
URL:https://newconcord-oh.gov/event/mu-mens-soccer-youth-camp/2026-06-19/
LOCATION:OH
CATEGORIES:Community Events
ATTACH;FMTTYPE=image/jpeg:https://newconcord-oh.gov/wp-content/uploads/2026/03/IMG_3051.jpg
END:VEVENT
BEGIN:VEVENT
DTSTART;TZID=America/New_York:20260622T173000
DTEND;TZID=America/New_York:20260622T183000
DTSTAMP:20260423T194758
CREATED:20260126T023306Z
LAST-MODIFIED:20260126T023306Z
UID:10004371-1782149400-1782153000@newconcord-oh.gov
SUMMARY:Infrastructure Committee Meeting
DESCRIPTION:
URL:https://newconcord-oh.gov/event/infrastructure-committee-meeting/2026-06-22/
LOCATION:Village Hall\, 2 W. Main Street\, NEW CONCORD\, OH\, 43762\, United States
CATEGORIES:Public Meetings
END:VEVENT
BEGIN:VEVENT
DTSTART;TZID=America/New_York:20260622T173000
DTEND;TZID=America/New_York:20260622T183000
DTSTAMP:20260423T194758
CREATED:20260423T204819Z
LAST-MODIFIED:20260423T204819Z
UID:10005673-1782149400-1782153000@newconcord-oh.gov
SUMMARY:Step and Core
DESCRIPTION:New summer session! Looking for a full body workout? Join us for a little step and a little core as we add light weights into the mix! Class meets at the Chess Center fitness room on MU’s campus Mondays at 5:30 PM. \n4-week session meets June 8\, 15\, 22\, and 29 \n$8 / class or $25 for the full session \nRegister
URL:https://newconcord-oh.gov/event/step-and-core/2026-06-22/
LOCATION:Muskingum University Chess Center\, 10 College Dr\, NEW CONCORD\, OH\, 43762\, United States
CATEGORIES:Community Events,NCAARD Fitness
END:VEVENT
BEGIN:VEVENT
DTSTART;TZID=America/New_York:20260622T183000
DTEND;TZID=America/New_York:20260622T193000
DTSTAMP:20260423T194758
CREATED:20260126T023150Z
LAST-MODIFIED:20260126T023150Z
UID:10004360-1782153000-1782156600@newconcord-oh.gov
SUMMARY:Village Council Meeting
DESCRIPTION:
URL:https://newconcord-oh.gov/event/village-council-meeting-2/2026-06-22/
LOCATION:Village Hall\, 2 W. Main Street\, NEW CONCORD\, OH\, 43762\, United States
CATEGORIES:Public Meetings
END:VEVENT
BEGIN:VEVENT
DTSTART;TZID=America/New_York:20260623T190000
DTEND;TZID=America/New_York:20260623T200000
DTSTAMP:20260423T194758
CREATED:20260423T204109Z
LAST-MODIFIED:20260423T204221Z
UID:10005665-1782241200-1782244800@newconcord-oh.gov
SUMMARY:Yoga
DESCRIPTION:Enjoy your summer with two 4-week sessions of yoga with experienced yoga instructor\, Megyen Green.  Class meets at 7 PM Tuesdays at the United Methodist Church. \nDates:\nSummer Session I: June 9\, 16\, 23\, 30\nSummer Session II: July 7\, 14\, 21\, 28\nMakeup date: Aug. 4 \nPricing:\nOne class = $8\nOne session (4 classes) = $25 ($32 value)\nTwo sessions (8 classes) = $45 ($64 value) \nRegister
URL:https://newconcord-oh.gov/event/yoga-2/2026-06-23/
LOCATION:United Methodist Church\, 20 East High Street\, NEW CONCORD\, OH\, 43762\, United States
CATEGORIES:Community Events,NCAARD Fitness
ATTACH;FMTTYPE=image/png:https://newconcord-oh.gov/wp-content/uploads/2024/12/IMG_4695.png
END:VEVENT
BEGIN:VEVENT
DTSTART;TZID=America/New_York:20260623T190000
DTEND;TZID=America/New_York:20260623T210000
DTSTAMP:20260423T194758
CREATED:20260411T210622Z
LAST-MODIFIED:20260423T181458Z
UID:10005651-1782241200-1782248400@newconcord-oh.gov
SUMMARY:Celebrate New Concord
DESCRIPTION:Summer Entertainment Series \nJune 9 – Jake “Barefoot” McCoy\nJune 23 – Haley Bundy\n*July 11 – Muskingum Valley Symphonic Winds  ‘\nJuly 28 – Roscommons Sessions\nAugust 11 – Northwest Territory\nAugust 25 – Tony Hagood Quartet \nAll shows begin at 7 PM at Village Park \n*Special concert in conjunction with the America 250 Celebration 8 PM
URL:https://newconcord-oh.gov/event/celebrate-new-concord/2026-06-23/
LOCATION:Village Park\, 2 W Main St\, NEW CONCORD\, OH\, 43762\, United States
CATEGORIES:Community Events
ATTACH;FMTTYPE=image/png:https://newconcord-oh.gov/wp-content/uploads/2026/04/2026-Season-Poster-web.png
END:VEVENT
BEGIN:VEVENT
DTSTART;TZID=America/New_York:20260628T140000
DTEND;TZID=America/New_York:20260628T160000
DTSTAMP:20260423T194758
CREATED:20260413T145158Z
LAST-MODIFIED:20260413T145739Z
UID:10005658-1782655200-1782662400@newconcord-oh.gov
SUMMARY:Kayak on the Reservoir Day
DESCRIPTION:Join us for an afternoon on the reservoir! Enjoy the outdoors on the water in this beautiful habitat. Kayaks and life vests provided.\nRegister below to reserve your time slot!\n2:00-2:40\n2:40-3:20\n3:20-4:00 \n Register
URL:https://newconcord-oh.gov/event/kayak-on-the-reservoir-day/
LOCATION:New Concord Reservoir\, Shadyside Drive\, NEW CONCORD\, OH\, 43762\, United States
CATEGORIES:Community Events,NCAARD Events
ATTACH;FMTTYPE=image/jpeg:https://newconcord-oh.gov/wp-content/uploads/2024/05/IMG_9502.jpg
END:VEVENT
BEGIN:VEVENT
DTSTART;TZID=America/New_York:20260629T173000
DTEND;TZID=America/New_York:20260629T183000
DTSTAMP:20260423T194758
CREATED:20260423T204819Z
LAST-MODIFIED:20260423T204819Z
UID:10005674-1782754200-1782757800@newconcord-oh.gov
SUMMARY:Step and Core
DESCRIPTION:New summer session! Looking for a full body workout? Join us for a little step and a little core as we add light weights into the mix! Class meets at the Chess Center fitness room on MU’s campus Mondays at 5:30 PM. \n4-week session meets June 8\, 15\, 22\, and 29 \n$8 / class or $25 for the full session \nRegister
URL:https://newconcord-oh.gov/event/step-and-core/2026-06-29/
LOCATION:Muskingum University Chess Center\, 10 College Dr\, NEW CONCORD\, OH\, 43762\, United States
CATEGORIES:Community Events,NCAARD Fitness
END:VEVENT
BEGIN:VEVENT
DTSTART;TZID=America/New_York:20260630T190000
DTEND;TZID=America/New_York:20260630T200000
DTSTAMP:20260423T194758
CREATED:20260423T204109Z
LAST-MODIFIED:20260423T204221Z
UID:10005666-1782846000-1782849600@newconcord-oh.gov
SUMMARY:Yoga
DESCRIPTION:Enjoy your summer with two 4-week sessions of yoga with experienced yoga instructor\, Megyen Green.  Class meets at 7 PM Tuesdays at the United Methodist Church. \nDates:\nSummer Session I: June 9\, 16\, 23\, 30\nSummer Session II: July 7\, 14\, 21\, 28\nMakeup date: Aug. 4 \nPricing:\nOne class = $8\nOne session (4 classes) = $25 ($32 value)\nTwo sessions (8 classes) = $45 ($64 value) \nRegister
URL:https://newconcord-oh.gov/event/yoga-2/2026-06-30/
LOCATION:United Methodist Church\, 20 East High Street\, NEW CONCORD\, OH\, 43762\, United States
CATEGORIES:Community Events,NCAARD Fitness
ATTACH;FMTTYPE=image/png:https://newconcord-oh.gov/wp-content/uploads/2024/12/IMG_4695.png
END:VEVENT
BEGIN:VEVENT
DTSTART;TZID=America/New_York:20260706T100000
DTEND;TZID=America/New_York:20260706T224500
DTSTAMP:20260423T194758
CREATED:20260423T210429Z
LAST-MODIFIED:20260423T210429Z
UID:10005679-1783332000-1783377900@newconcord-oh.gov
SUMMARY:Water Aerobics
DESCRIPTION:Enjoy the buoyancy of the water to reduce stress on your joints in this summer water aerobics class! Instructor Gretchen Combs leads us through a series of movements using the water as resistance to tone and strengthen muscles as well as get in some light cardio! Class meets at the New Concord Area Pool Monday mornings at 10 AM in July! \nClass meets July 6\, 13\, 20\, and 27 weather-permitting. There will be makeup dates Wednesdays\, July 22 and 29\, if needed. \n$8 / class or $25 for full session \nRegister
URL:https://newconcord-oh.gov/event/water-aerobics/2026-07-06/
LOCATION:NCAP\, John Glenn School Road\, NEW CONCORD\, OH\, 43762\, United States
CATEGORIES:Community Events,NCAARD Events,NCAARD Fitness
ATTACH;FMTTYPE=image/jpeg:https://newconcord-oh.gov/wp-content/uploads/2025/05/IMG_77091-scaled.jpg
END:VEVENT
BEGIN:VEVENT
DTSTART;TZID=America/New_York:20260707T190000
DTEND;TZID=America/New_York:20260707T200000
DTSTAMP:20260423T194758
CREATED:20260423T204109Z
LAST-MODIFIED:20260423T204221Z
UID:10005667-1783450800-1783454400@newconcord-oh.gov
SUMMARY:Yoga
DESCRIPTION:Enjoy your summer with two 4-week sessions of yoga with experienced yoga instructor\, Megyen Green.  Class meets at 7 PM Tuesdays at the United Methodist Church. \nDates:\nSummer Session I: June 9\, 16\, 23\, 30\nSummer Session II: July 7\, 14\, 21\, 28\nMakeup date: Aug. 4 \nPricing:\nOne class = $8\nOne session (4 classes) = $25 ($32 value)\nTwo sessions (8 classes) = $45 ($64 value) \nRegister
URL:https://newconcord-oh.gov/event/yoga-2/2026-07-07/
LOCATION:United Methodist Church\, 20 East High Street\, NEW CONCORD\, OH\, 43762\, United States
CATEGORIES:Community Events,NCAARD Fitness
ATTACH;FMTTYPE=image/png:https://newconcord-oh.gov/wp-content/uploads/2024/12/IMG_4695.png
END:VEVENT
BEGIN:VEVENT
DTSTART;TZID=America/New_York:20260708T173000
DTEND;TZID=America/New_York:20260708T183000
DTSTAMP:20260423T194758
CREATED:20260423T205424Z
LAST-MODIFIED:20260423T205424Z
UID:10005675-1783531800-1783535400@newconcord-oh.gov
SUMMARY:Dance Cardio
DESCRIPTION:Dance\, sweat\, and have some fun with Dance Cardio this summer! Certified salsa instructor\, Jennifer Ordonez\, is offering a 4-week session you don’t want to miss. Class meets at 5:30 PM Wednesday at the United Methodist Church (except for July 15 which will be held at Village Hall lower level). No dance experience required!  \nWe will meet July 8\, 15\, 22\, and 29.     \n$8 / class or $25 for full session \nRegister
URL:https://newconcord-oh.gov/event/dance-cardio-2/2026-07-08/
LOCATION:United Methodist Church\, 20 East High Street\, NEW CONCORD\, OH\, 43762\, United States
CATEGORIES:Community Events,NCAARD Events,NCAARD Fitness
ATTACH;FMTTYPE=image/png:https://newconcord-oh.gov/wp-content/uploads/2025/12/IMG_1305-scaled.png
END:VEVENT
BEGIN:VEVENT
DTSTART;TZID=America/New_York:20260710T200000
DTEND;TZID=America/New_York:20260710T223000
DTSTAMP:20260423T194758
CREATED:20260411T211031Z
LAST-MODIFIED:20260411T211206Z
UID:10005656-1783713600-1783722600@newconcord-oh.gov
SUMMARY:Summer Outdoor Movie
DESCRIPTION:Bring your chairs and blankets! It’s movie time! This year’s feature is … TBA! \nBe sure to come early to get a good spot AND participate in the pre-movie festivities!
URL:https://newconcord-oh.gov/event/summer-outdoor-movie/
LOCATION:Village Park\, 2 W Main St\, NEW CONCORD\, OH\, 43762\, United States
CATEGORIES:Community Events,NCAARD Events
END:VEVENT
BEGIN:VEVENT
DTSTART;TZID=America/New_York:20260711T100000
DTEND;TZID=America/New_York:20260711T223000
DTSTAMP:20260423T194758
CREATED:20260411T212048Z
LAST-MODIFIED:20260411T212200Z
UID:10005657-1783764000-1783809000@newconcord-oh.gov
SUMMARY:America 250 Community Picnic\, Bingo\, Music\, and Fun!
DESCRIPTION:Save the date! \nDon’t miss this once-in-a-lifetime celebration of our country’s independence!\nJoin us for a state-wide community picnic – and more – in Village Park July 11!\nHappy 250 birthday\, America! \nEvents planned thus far: \n10 AM – 4 PM: Free walk-through tours at National Road and John & Annie Glenn Museums\n4 – 6 PM: Community Picnic in the Park (these are happening in communities state-wide)\n5 – 8 PM: NCAARD Quarter Bingo in Village Hall lower level\n7 – 8 PM: Performance by the Sweet Adalines in Village Park\n8 – 9:45 PM: Performance by the Muskingum Valley Symphonic Winds as part of CNC\n9:45 PM: Fireworks
URL:https://newconcord-oh.gov/event/america-250-community-picnic-and-fun/
LOCATION:Village Park\, 2 W Main St\, NEW CONCORD\, OH\, 43762\, United States
CATEGORIES:Community Events
END:VEVENT
BEGIN:VEVENT
DTSTART;TZID=America/New_York:20260711T190000
DTEND;TZID=America/New_York:20260711T214500
DTSTAMP:20260423T194758
CREATED:20260411T210622Z
LAST-MODIFIED:20260423T181458Z
UID:10005652-1783796400-1783806300@newconcord-oh.gov
SUMMARY:Celebrate New Concord
DESCRIPTION:Summer Entertainment Series \nJune 9 – Jake “Barefoot” McCoy\nJune 23 – Haley Bundy\n*July 11 – Muskingum Valley Symphonic Winds  ‘\nJuly 28 – Roscommons Sessions\nAugust 11 – Northwest Territory\nAugust 25 – Tony Hagood Quartet \nAll shows begin at 7 PM at Village Park \n*Special concert in conjunction with the America 250 Celebration 8 PM
URL:https://newconcord-oh.gov/event/celebrate-new-concord/2026-07-11/
LOCATION:Village Park\, 2 W Main St\, NEW CONCORD\, OH\, 43762\, United States
CATEGORIES:Community Events
ATTACH;FMTTYPE=image/png:https://newconcord-oh.gov/wp-content/uploads/2026/04/2026-Season-Poster-web.png
END:VEVENT
BEGIN:VEVENT
DTSTART;TZID=America/New_York:20260713T100000
DTEND;TZID=America/New_York:20260713T224500
DTSTAMP:20260423T194758
CREATED:20260423T210429Z
LAST-MODIFIED:20260423T210429Z
UID:10005680-1783936800-1783982700@newconcord-oh.gov
SUMMARY:Water Aerobics
DESCRIPTION:Enjoy the buoyancy of the water to reduce stress on your joints in this summer water aerobics class! Instructor Gretchen Combs leads us through a series of movements using the water as resistance to tone and strengthen muscles as well as get in some light cardio! Class meets at the New Concord Area Pool Monday mornings at 10 AM in July! \nClass meets July 6\, 13\, 20\, and 27 weather-permitting. There will be makeup dates Wednesdays\, July 22 and 29\, if needed. \n$8 / class or $25 for full session \nRegister
URL:https://newconcord-oh.gov/event/water-aerobics/2026-07-13/
LOCATION:NCAP\, John Glenn School Road\, NEW CONCORD\, OH\, 43762\, United States
CATEGORIES:Community Events,NCAARD Events,NCAARD Fitness
ATTACH;FMTTYPE=image/jpeg:https://newconcord-oh.gov/wp-content/uploads/2025/05/IMG_77091-scaled.jpg
END:VEVENT
BEGIN:VEVENT
DTSTART;TZID=America/New_York:20260713T183000
DTEND;TZID=America/New_York:20260713T193000
DTSTAMP:20260423T194758
CREATED:20260126T022903Z
LAST-MODIFIED:20260126T022903Z
UID:10004350-1783967400-1783971000@newconcord-oh.gov
SUMMARY:Village Council Meeting
DESCRIPTION:
URL:https://newconcord-oh.gov/event/village-council-meeting/2026-07-13/
LOCATION:Village Hall\, 2 W. Main Street\, NEW CONCORD\, OH\, 43762\, United States
CATEGORIES:Public Meetings
END:VEVENT
BEGIN:VEVENT
DTSTART;TZID=America/New_York:20260714T190000
DTEND;TZID=America/New_York:20260714T200000
DTSTAMP:20260423T194758
CREATED:20260423T204109Z
LAST-MODIFIED:20260423T204221Z
UID:10005668-1784055600-1784059200@newconcord-oh.gov
SUMMARY:Yoga
DESCRIPTION:Enjoy your summer with two 4-week sessions of yoga with experienced yoga instructor\, Megyen Green.  Class meets at 7 PM Tuesdays at the United Methodist Church. \nDates:\nSummer Session I: June 9\, 16\, 23\, 30\nSummer Session II: July 7\, 14\, 21\, 28\nMakeup date: Aug. 4 \nPricing:\nOne class = $8\nOne session (4 classes) = $25 ($32 value)\nTwo sessions (8 classes) = $45 ($64 value) \nRegister
URL:https://newconcord-oh.gov/event/yoga-2/2026-07-14/
LOCATION:United Methodist Church\, 20 East High Street\, NEW CONCORD\, OH\, 43762\, United States
CATEGORIES:Community Events,NCAARD Fitness
ATTACH;FMTTYPE=image/png:https://newconcord-oh.gov/wp-content/uploads/2024/12/IMG_4695.png
END:VEVENT
BEGIN:VEVENT
DTSTART;TZID=America/New_York:20260715T173000
DTEND;TZID=America/New_York:20260715T183000
DTSTAMP:20260423T194758
CREATED:20260423T205424Z
LAST-MODIFIED:20260423T205424Z
UID:10005676-1784136600-1784140200@newconcord-oh.gov
SUMMARY:Dance Cardio
DESCRIPTION:Dance\, sweat\, and have some fun with Dance Cardio this summer! Certified salsa instructor\, Jennifer Ordonez\, is offering a 4-week session you don’t want to miss. Class meets at 5:30 PM Wednesday at the United Methodist Church (except for July 15 which will be held at Village Hall lower level). No dance experience required!  \nWe will meet July 8\, 15\, 22\, and 29.     \n$8 / class or $25 for full session \nRegister
URL:https://newconcord-oh.gov/event/dance-cardio-2/2026-07-15/
LOCATION:United Methodist Church\, 20 East High Street\, NEW CONCORD\, OH\, 43762\, United States
CATEGORIES:Community Events,NCAARD Events,NCAARD Fitness
ATTACH;FMTTYPE=image/png:https://newconcord-oh.gov/wp-content/uploads/2025/12/IMG_1305-scaled.png
END:VEVENT
BEGIN:VEVENT
DTSTART;TZID=America/New_York:20260720T100000
DTEND;TZID=America/New_York:20260720T224500
DTSTAMP:20260423T194758
CREATED:20260423T210429Z
LAST-MODIFIED:20260423T210429Z
UID:10005681-1784541600-1784587500@newconcord-oh.gov
SUMMARY:Water Aerobics
DESCRIPTION:Enjoy the buoyancy of the water to reduce stress on your joints in this summer water aerobics class! Instructor Gretchen Combs leads us through a series of movements using the water as resistance to tone and strengthen muscles as well as get in some light cardio! Class meets at the New Concord Area Pool Monday mornings at 10 AM in July! \nClass meets July 6\, 13\, 20\, and 27 weather-permitting. There will be makeup dates Wednesdays\, July 22 and 29\, if needed. \n$8 / class or $25 for full session \nRegister
URL:https://newconcord-oh.gov/event/water-aerobics/2026-07-20/
LOCATION:NCAP\, John Glenn School Road\, NEW CONCORD\, OH\, 43762\, United States
CATEGORIES:Community Events,NCAARD Events,NCAARD Fitness
ATTACH;FMTTYPE=image/jpeg:https://newconcord-oh.gov/wp-content/uploads/2025/05/IMG_77091-scaled.jpg
END:VEVENT
BEGIN:VEVENT
DTSTART;TZID=America/New_York:20260721T190000
DTEND;TZID=America/New_York:20260721T200000
DTSTAMP:20260423T194758
CREATED:20260423T204109Z
LAST-MODIFIED:20260423T204221Z
UID:10005669-1784660400-1784664000@newconcord-oh.gov
SUMMARY:Yoga
DESCRIPTION:Enjoy your summer with two 4-week sessions of yoga with experienced yoga instructor\, Megyen Green.  Class meets at 7 PM Tuesdays at the United Methodist Church. \nDates:\nSummer Session I: June 9\, 16\, 23\, 30\nSummer Session II: July 7\, 14\, 21\, 28\nMakeup date: Aug. 4 \nPricing:\nOne class = $8\nOne session (4 classes) = $25 ($32 value)\nTwo sessions (8 classes) = $45 ($64 value) \nRegister
URL:https://newconcord-oh.gov/event/yoga-2/2026-07-21/
LOCATION:United Methodist Church\, 20 East High Street\, NEW CONCORD\, OH\, 43762\, United States
CATEGORIES:Community Events,NCAARD Fitness
ATTACH;FMTTYPE=image/png:https://newconcord-oh.gov/wp-content/uploads/2024/12/IMG_4695.png
END:VEVENT
BEGIN:VEVENT
DTSTART;TZID=America/New_York:20260722T173000
DTEND;TZID=America/New_York:20260722T183000
DTSTAMP:20260423T194758
CREATED:20260423T205424Z
LAST-MODIFIED:20260423T205424Z
UID:10005677-1784741400-1784745000@newconcord-oh.gov
SUMMARY:Dance Cardio
DESCRIPTION:Dance\, sweat\, and have some fun with Dance Cardio this summer! Certified salsa instructor\, Jennifer Ordonez\, is offering a 4-week session you don’t want to miss. Class meets at 5:30 PM Wednesday at the United Methodist Church (except for July 15 which will be held at Village Hall lower level). No dance experience required!  \nWe will meet July 8\, 15\, 22\, and 29.     \n$8 / class or $25 for full session \nRegister
URL:https://newconcord-oh.gov/event/dance-cardio-2/2026-07-22/
LOCATION:United Methodist Church\, 20 East High Street\, NEW CONCORD\, OH\, 43762\, United States
CATEGORIES:Community Events,NCAARD Events,NCAARD Fitness
ATTACH;FMTTYPE=image/png:https://newconcord-oh.gov/wp-content/uploads/2025/12/IMG_1305-scaled.png
END:VEVENT
BEGIN:VEVENT
DTSTART;TZID=America/New_York:20260727T100000
DTEND;TZID=America/New_York:20260727T224500
DTSTAMP:20260423T194758
CREATED:20260423T210429Z
LAST-MODIFIED:20260423T210429Z
UID:10005682-1785146400-1785192300@newconcord-oh.gov
SUMMARY:Water Aerobics
DESCRIPTION:Enjoy the buoyancy of the water to reduce stress on your joints in this summer water aerobics class! Instructor Gretchen Combs leads us through a series of movements using the water as resistance to tone and strengthen muscles as well as get in some light cardio! Class meets at the New Concord Area Pool Monday mornings at 10 AM in July! \nClass meets July 6\, 13\, 20\, and 27 weather-permitting. There will be makeup dates Wednesdays\, July 22 and 29\, if needed. \n$8 / class or $25 for full session \nRegister
URL:https://newconcord-oh.gov/event/water-aerobics/2026-07-27/
LOCATION:NCAP\, John Glenn School Road\, NEW CONCORD\, OH\, 43762\, United States
CATEGORIES:Community Events,NCAARD Events,NCAARD Fitness
ATTACH;FMTTYPE=image/jpeg:https://newconcord-oh.gov/wp-content/uploads/2025/05/IMG_77091-scaled.jpg
END:VEVENT
END:VCALENDAR