BEGIN:VCALENDAR
VERSION:2.0
PRODID:-//Village of New Concord, Ohio - ECPv6.15.20//NONSGML v1.0//EN
CALSCALE:GREGORIAN
METHOD:PUBLISH
X-WR-CALNAME:Village of New Concord, Ohio
X-ORIGINAL-URL:https://newconcord-oh.gov
X-WR-CALDESC:Events for Village of New Concord, Ohio
REFRESH-INTERVAL;VALUE=DURATION:PT1H
X-Robots-Tag:noindex
X-PUBLISHED-TTL:PT1H
BEGIN:VTIMEZONE
TZID:America/New_York
BEGIN:DAYLIGHT
TZOFFSETFROM:-0500
TZOFFSETTO:-0400
TZNAME:EDT
DTSTART:20250309T070000
END:DAYLIGHT
BEGIN:STANDARD
TZOFFSETFROM:-0400
TZOFFSETTO:-0500
TZNAME:EST
DTSTART:20251102T060000
END:STANDARD
BEGIN:DAYLIGHT
TZOFFSETFROM:-0500
TZOFFSETTO:-0400
TZNAME:EDT
DTSTART:20260308T070000
END:DAYLIGHT
BEGIN:STANDARD
TZOFFSETFROM:-0400
TZOFFSETTO:-0500
TZNAME:EST
DTSTART:20261101T060000
END:STANDARD
BEGIN:DAYLIGHT
TZOFFSETFROM:-0500
TZOFFSETTO:-0400
TZNAME:EDT
DTSTART:20270314T070000
END:DAYLIGHT
BEGIN:STANDARD
TZOFFSETFROM:-0400
TZOFFSETTO:-0500
TZNAME:EST
DTSTART:20271107T060000
END:STANDARD
END:VTIMEZONE
BEGIN:VEVENT
DTSTART;TZID=America/New_York:20260323T173000
DTEND;TZID=America/New_York:20260323T183000
DTSTAMP:20260421T013403
CREATED:20260126T023306Z
LAST-MODIFIED:20260126T023306Z
UID:10004368-1774287000-1774290600@newconcord-oh.gov
SUMMARY:Infrastructure Committee Meeting
DESCRIPTION:
URL:https://newconcord-oh.gov/event/infrastructure-committee-meeting/2026-03-23/
LOCATION:Village Hall\, 2 W. Main Street\, NEW CONCORD\, OH\, 43762\, United States
CATEGORIES:Public Meetings
END:VEVENT
BEGIN:VEVENT
DTSTART;TZID=America/New_York:20260323T173000
DTEND;TZID=America/New_York:20260323T183000
DTSTAMP:20260421T013403
CREATED:20251208T211526Z
LAST-MODIFIED:20251216T194335Z
UID:10004129-1774287000-1774290600@newconcord-oh.gov
SUMMARY:Wall Pilates
DESCRIPTION:Instructor Gretchen Combs leads us through a wide variety of exercises in this Wall Pilates class. Work at your own pace as quickly or slowly as you’d like in this toning low-impact class.  \nClass meets Mondays at 5:30 PM in Muskingum’s Chess Center.\n$8 single class\nSpring Session (5 weeks): Mar. 16\, 23\, 30\, Apr. 6\, 13  $30 \n Register
URL:https://newconcord-oh.gov/event/wall-pilates/2026-03-23/
LOCATION:Muskingum University Chess Center\, 10 College Dr\, NEW CONCORD\, OH\, 43762\, United States
CATEGORIES:NCAARD Events,NCAARD Fitness
ATTACH;FMTTYPE=image/jpeg:https://newconcord-oh.gov/wp-content/uploads/2025/12/IMG_1307.jpeg
END:VEVENT
BEGIN:VEVENT
DTSTART;VALUE=DATE:20260323
DTEND;VALUE=DATE:20260324
DTSTAMP:20260421T013403
CREATED:20260304T164456Z
LAST-MODIFIED:20260316T195101Z
UID:10005189-1774224000-1774310399@newconcord-oh.gov
SUMMARY:Hop around the Block
DESCRIPTION:Be a part of our 7th annual Hop around the Block! \nFind one of 12 golden eggs hidden inside or outside businesses along Main Street to win a prize basket full of goodies\, treats\, and toys! \nEvent runs March 23 – 31 or until all 12 eggs are found! Post your pic on our Facebook page if you find one so we can keep track please! \nThank you to our proud sponsors for their donations to make this event possible! \nCarol Goff & Associates\nCircle K\nFriends of the New Concord Library\nGenesis Health Plex\nGibson Laundromat & Carwash\nMuskingum Athletics\nNew Concord Family Dental\nNew Concord Feral Cats\, Inc.\nOrme Hardware\nPark National Bank\nRiesbeck’s Food Market\nShear Vibes\nTexas Roadhouse\nThe Community Bank\nThe Grooming Room \nPrize pick up will be April 1 from 3:15-4:15 PM at Village Hall. Make sure to bring your golden egg with you! \n*One prize basket per family
URL:https://newconcord-oh.gov/event/hop-around-the-block/2026-03-23/
LOCATION:Various locations
CATEGORIES:Community Events,NCAARD Events
ATTACH;FMTTYPE=image/png:https://newconcord-oh.gov/wp-content/uploads/2026/03/IMG_2619.png
END:VEVENT
BEGIN:VEVENT
DTSTART;TZID=America/New_York:20260322T140000
DTEND;TZID=America/New_York:20260322T160000
DTSTAMP:20260421T013403
CREATED:20260307T021806Z
LAST-MODIFIED:20260307T021806Z
UID:10005215-1774188000-1774195200@newconcord-oh.gov
SUMMARY:Daddy Daughter Dance
DESCRIPTION:Sponsored by JGHS Track & Field and Cross Country
URL:https://newconcord-oh.gov/event/daddy-daughter-dance/
LOCATION:OH
CATEGORIES:Community Events
END:VEVENT
BEGIN:VEVENT
DTSTART;TZID=America/New_York:20260321T180000
DTEND;TZID=America/New_York:20260321T210000
DTSTAMP:20260421T013403
CREATED:20251223T164730Z
LAST-MODIFIED:20260316T160338Z
UID:10004172-1774116000-1774126800@newconcord-oh.gov
SUMMARY:Zane Grey Movie & Popcorn
DESCRIPTION:Join us at the National Road and Zane Grey Museums for a screening of ”To the Last Man.”  \nSpots are limited so call (740) 826 – 3305 or email information.maem@gmail.com to register \nDue to limited reservations\, there will not be a meal.\nPopcorn will be available.
URL:https://newconcord-oh.gov/event/zane-grey-dinner-and-a-movie/
LOCATION:National Road and Zane Grey Museum\, 8850 East Pike\, Norwich\, OH\, 43767\, United States
CATEGORIES:Community Events
ATTACH;FMTTYPE=image/jpeg:https://newconcord-oh.gov/wp-content/uploads/2025/12/Zane-Grey-Dinner-a-Movie.jpg
END:VEVENT
BEGIN:VEVENT
DTSTART;TZID=America/New_York:20260321T104500
DTEND;TZID=America/New_York:20260321T113000
DTSTAMP:20260421T013403
CREATED:20260126T155827Z
LAST-MODIFIED:20260215T163916Z
UID:10004410-1774089900-1774092600@newconcord-oh.gov
SUMMARY:Muskingum University Athletics Polar Plunge
DESCRIPTION:Originally scheduled for Feb. 14 – has been rescheduled for March 21! \nSee flyer for more information!
URL:https://newconcord-oh.gov/event/muskingum-university-athletics-polar-plunge/
LOCATION:Muskingum University
CATEGORIES:Community Events
ATTACH;FMTTYPE=image/jpeg:https://newconcord-oh.gov/wp-content/uploads/2026/01/IMG_9487.jpg
END:VEVENT
BEGIN:VEVENT
DTSTART;TZID=America/New_York:20260321T080000
DTEND;TZID=America/New_York:20260321T085000
DTSTAMP:20260421T013403
CREATED:20260117T025705Z
LAST-MODIFIED:20260330T161103Z
UID:10004285-1774080000-1774083000@newconcord-oh.gov
SUMMARY:NCICC Cycling
DESCRIPTION:The New Concord Indoor Cycling Co-op meets for spin class Saturdays from 8 – 8:50 AM at the Westminster Presbyterian Church led by Kathy Normansell. Drop-ins welcome! Register and pay at class! Text Kathy at 740-607-3060 for information.
URL:https://newconcord-oh.gov/event/ncicc-cycling/2026-03-21/
LOCATION:Westminster Presbyterian Church\, NEW CONCORD\, OH\, 43762\, United States
CATEGORIES:Community Events
ATTACH;FMTTYPE=image/jpeg:https://newconcord-oh.gov/wp-content/uploads/2026/01/IMG_1338.jpeg
END:VEVENT
END:VCALENDAR