BEGIN:VCALENDAR
VERSION:2.0
PRODID:-//Village of New Concord, Ohio - ECPv6.15.20//NONSGML v1.0//EN
CALSCALE:GREGORIAN
METHOD:PUBLISH
X-WR-CALNAME:Village of New Concord, Ohio
X-ORIGINAL-URL:https://newconcord-oh.gov
X-WR-CALDESC:Events for Village of New Concord, Ohio
REFRESH-INTERVAL;VALUE=DURATION:PT1H
X-Robots-Tag:noindex
X-PUBLISHED-TTL:PT1H
BEGIN:VTIMEZONE
TZID:America/New_York
BEGIN:DAYLIGHT
TZOFFSETFROM:-0500
TZOFFSETTO:-0400
TZNAME:EDT
DTSTART:20250309T070000
END:DAYLIGHT
BEGIN:STANDARD
TZOFFSETFROM:-0400
TZOFFSETTO:-0500
TZNAME:EST
DTSTART:20251102T060000
END:STANDARD
BEGIN:DAYLIGHT
TZOFFSETFROM:-0500
TZOFFSETTO:-0400
TZNAME:EDT
DTSTART:20260308T070000
END:DAYLIGHT
BEGIN:STANDARD
TZOFFSETFROM:-0400
TZOFFSETTO:-0500
TZNAME:EST
DTSTART:20261101T060000
END:STANDARD
BEGIN:DAYLIGHT
TZOFFSETFROM:-0500
TZOFFSETTO:-0400
TZNAME:EDT
DTSTART:20270314T070000
END:DAYLIGHT
BEGIN:STANDARD
TZOFFSETFROM:-0400
TZOFFSETTO:-0500
TZNAME:EST
DTSTART:20271107T060000
END:STANDARD
END:VTIMEZONE
BEGIN:VEVENT
DTSTART;TZID=America/New_York:20260321T104500
DTEND;TZID=America/New_York:20260321T113000
DTSTAMP:20260420T042755
CREATED:20260126T155827Z
LAST-MODIFIED:20260215T163916Z
UID:10004410-1774089900-1774092600@newconcord-oh.gov
SUMMARY:Muskingum University Athletics Polar Plunge
DESCRIPTION:Originally scheduled for Feb. 14 – has been rescheduled for March 21! \nSee flyer for more information!
URL:https://newconcord-oh.gov/event/muskingum-university-athletics-polar-plunge/
LOCATION:Muskingum University
CATEGORIES:Community Events
ATTACH;FMTTYPE=image/jpeg:https://newconcord-oh.gov/wp-content/uploads/2026/01/IMG_9487.jpg
END:VEVENT
BEGIN:VEVENT
DTSTART;TZID=America/New_York:20260321T080000
DTEND;TZID=America/New_York:20260321T085000
DTSTAMP:20260420T042755
CREATED:20260117T025705Z
LAST-MODIFIED:20260330T161103Z
UID:10004285-1774080000-1774083000@newconcord-oh.gov
SUMMARY:NCICC Cycling
DESCRIPTION:The New Concord Indoor Cycling Co-op meets for spin class Saturdays from 8 – 8:50 AM at the Westminster Presbyterian Church led by Kathy Normansell. Drop-ins welcome! Register and pay at class! Text Kathy at 740-607-3060 for information.
URL:https://newconcord-oh.gov/event/ncicc-cycling/2026-03-21/
LOCATION:Westminster Presbyterian Church\, NEW CONCORD\, OH\, 43762\, United States
CATEGORIES:Community Events
ATTACH;FMTTYPE=image/jpeg:https://newconcord-oh.gov/wp-content/uploads/2026/01/IMG_1338.jpeg
END:VEVENT
BEGIN:VEVENT
DTSTART;TZID=America/New_York:20260320T184500
DTEND;TZID=America/New_York:20260320T200000
DTSTAMP:20260420T042755
CREATED:20260226T195227Z
LAST-MODIFIED:20260316T203230Z
UID:10005175-1774032300-1774036800@newconcord-oh.gov
SUMMARY:Adult Open Volleyball
DESCRIPTION:Join us this spring for some competitive and super fun volleyball! We’ll meet four times this spring at LMIS on Fridays at 6:45 PM. We will play until about 8 PM. \nSpring session: March 20\, April 10\, and April 17 (April 17 @ EMMS) \n$2 / person / evening \n  \nRegister
URL:https://newconcord-oh.gov/event/adult-open-volleyball/2026-03-20/
LOCATION:LMIS\, 13125 John Glenn School Road\, NEW CONCORD\, OH\, 43762\, United States
CATEGORIES:NCAARD Events,NCAARD Fitness
ATTACH;FMTTYPE=image/jpeg:https://newconcord-oh.gov/wp-content/uploads/2026/02/IMG_97371-scaled.jpg
END:VEVENT
BEGIN:VEVENT
DTSTART;VALUE=DATE:20260318
DTEND;VALUE=DATE:20260320
DTSTAMP:20260420T042755
CREATED:20260126T162236Z
LAST-MODIFIED:20260126T162236Z
UID:10004417-1773792000-1773964799@newconcord-oh.gov
SUMMARY:MU Day of Giving
DESCRIPTION:
URL:https://newconcord-oh.gov/event/mu-day-of-giving/
LOCATION:Muskingum University
CATEGORIES:Community Events
END:VEVENT
END:VCALENDAR