BEGIN:VCALENDAR
VERSION:2.0
PRODID:-//Village of New Concord, Ohio - ECPv6.15.20//NONSGML v1.0//EN
CALSCALE:GREGORIAN
METHOD:PUBLISH
X-WR-CALNAME:Village of New Concord, Ohio
X-ORIGINAL-URL:https://newconcord-oh.gov
X-WR-CALDESC:Events for Village of New Concord, Ohio
REFRESH-INTERVAL;VALUE=DURATION:PT1H
X-Robots-Tag:noindex
X-PUBLISHED-TTL:PT1H
BEGIN:VTIMEZONE
TZID:America/New_York
BEGIN:DAYLIGHT
TZOFFSETFROM:-0500
TZOFFSETTO:-0400
TZNAME:EDT
DTSTART:20250309T070000
END:DAYLIGHT
BEGIN:STANDARD
TZOFFSETFROM:-0400
TZOFFSETTO:-0500
TZNAME:EST
DTSTART:20251102T060000
END:STANDARD
BEGIN:DAYLIGHT
TZOFFSETFROM:-0500
TZOFFSETTO:-0400
TZNAME:EDT
DTSTART:20260308T070000
END:DAYLIGHT
BEGIN:STANDARD
TZOFFSETFROM:-0400
TZOFFSETTO:-0500
TZNAME:EST
DTSTART:20261101T060000
END:STANDARD
BEGIN:DAYLIGHT
TZOFFSETFROM:-0500
TZOFFSETTO:-0400
TZNAME:EDT
DTSTART:20270314T070000
END:DAYLIGHT
BEGIN:STANDARD
TZOFFSETFROM:-0400
TZOFFSETTO:-0500
TZNAME:EST
DTSTART:20271107T060000
END:STANDARD
END:VTIMEZONE
BEGIN:VEVENT
DTSTART;TZID=America/New_York:20260420T153000
DTEND;TZID=America/New_York:20260420T170000
DTSTAMP:20260420T062003
CREATED:20260106T000610Z
LAST-MODIFIED:20260309T010329Z
UID:10004242-1776699000-1776704400@newconcord-oh.gov
SUMMARY:Activity Club
DESCRIPTION:Attention K-5th Graders! This free program is for you! \nJoin us for another exciting Activity Club – a hands-on\, creative program designed to engage\, inspire\, and educate! This unique afterschool club offers a variety of creative and educational activities\, including projects for our annual New Concord Blooms community-wide art exhibit\, career exploration with Mid-East students\, and fun\, creative sessions with GoodCity Creatives from Zanesville. We aim to spark curiosity and creativity! \nNew Concord Blooms Projects: Water-marbled pinwheels! Kids will learn and delve into the ancient art of water marbling in a controlled environment. \nMid-East Career Exploration: K-5 students will visit several different stations of Mid-East students to discover exciting programs and explore hands-on activities. \nGoodCity Creatives: Partnering with GoodCity Creatives from Zanesville\, our club dives into art\, design\, and innovation\, offering students the chance to explore their creative potential and learn new skills. \nDates: \nLMIS: Jan. 26 – canceled\, Feb. 23 – canceled\, Apr. 8 (register by Mar. 31) \nNCE: Jan. 22 – canceled\, Mar. 3\, Apr. 14 (register by Feb. 27)  \nPerry: Feb. 3\, Mar. 11 – canceled\, Apr. 20 (register by Jan. 30) \nEMMS: Feb. 5 – New Concord Blooms projects (register by Jan. 30) \nDate 1: New Concord Blooms projects (cancellations move to Date 3)\nDate 2: Mid-East Career and Technology Centers\nDate 3: GoodCity Creatives \nRegister
URL:https://newconcord-oh.gov/event/activity-club/2026-04-20/
LOCATION:Various schools
CATEGORIES:After School with NCAARD,NCAARD Events
ATTACH;FMTTYPE=image/png:https://newconcord-oh.gov/wp-content/uploads/2024/04/activity-club-logo-2024.png
END:VEVENT
BEGIN:VEVENT
DTSTART;TZID=America/New_York:20260420T174500
DTEND;TZID=America/New_York:20260420T183000
DTSTAMP:20260420T062003
CREATED:20260117T025213Z
LAST-MODIFIED:20260330T161156Z
UID:10004271-1776707100-1776709800@newconcord-oh.gov
SUMMARY:NCICC Cycling
DESCRIPTION:The New Concord Indoor Cycling Co-op meets for spin class Mondays 5:45 – 6:30 PM at the Westminster Presbyterian Church led by Kathy Normansell. Drop-ins welcome! Register and pay at class! Text Kathy at 740-607-3060 for information.
URL:https://newconcord-oh.gov/event/ncicc-strong/2026-04-20/
LOCATION:Westminster Presbyterian Church\, NEW CONCORD\, OH\, 43762\, United States
CATEGORIES:Community Events
ATTACH;FMTTYPE=image/jpeg:https://newconcord-oh.gov/wp-content/uploads/2026/01/IMG_1338.jpeg
END:VEVENT
BEGIN:VEVENT
DTSTART;TZID=America/New_York:20260420T183000
DTEND;TZID=America/New_York:20260420T191500
DTSTAMP:20260420T062003
CREATED:20260117T035058Z
LAST-MODIFIED:20260126T021209Z
UID:10004299-1776709800-1776712500@newconcord-oh.gov
SUMMARY:NCICC Strong
DESCRIPTION:The New Concord Indoor Cycling Co-op meets to lift light weights Mondays from 6:30 – 7:15 PM at the Westminster Presbyterian Church led by Kathy Normansell. Drop-ins welcome! Register and pay at class! Text Kathy at 740-607-3060 for information. \n 
URL:https://newconcord-oh.gov/event/ncicc-cycling-2/2026-04-20/
LOCATION:Westminster Presbyterian Church\, NEW CONCORD\, OH\, 43762\, United States
CATEGORIES:Community Events
ATTACH;FMTTYPE=image/jpeg:https://newconcord-oh.gov/wp-content/uploads/2026/01/IMG_0099-scaled.jpg
END:VEVENT
BEGIN:VEVENT
DTSTART;TZID=America/New_York:20260421T153000
DTEND;TZID=America/New_York:20260421T170000
DTSTAMP:20260420T062003
CREATED:20260106T002436Z
LAST-MODIFIED:20260123T181934Z
UID:10004250-1776785400-1776790800@newconcord-oh.gov
SUMMARY:Book Club
DESCRIPTION:Bee Gosnell is back to lead more Book Clubs! \nTo register\, contact Bee directly at bee.gosnell@gmail.com \nTentative dates for LMIS:\nBook Club A: Tuesdays – Jan. 27 – rescheduled for Feb. 3\, Feb. 24\, Mar. 24\, Apr. 21\, May 19\nBook Club B: Wednesdays – Jan. 28 – rescheduled for Feb. 4\, Feb. 25\, Mar. 25\, Apr. 22\, May 20 \nTentative dates for EMMS at lunch:\n6th grade: Wednesdays – Jan. 28 – rescheduled for Feb. 4\, Feb. 25\, Mar. 25\, Apr. 22\n7th grade: Wednesdays – Jan. 28 – rescheduled for Feb. 4\, Feb. 25\, Mar. 25\, Apr. 22\, May 20
URL:https://newconcord-oh.gov/event/book-club/2026-04-21/
LOCATION:Various schools
CATEGORIES:After School with NCAARD,NCAARD Events
ATTACH;FMTTYPE=image/jpeg:https://newconcord-oh.gov/wp-content/uploads/2024/08/IMG_4300.jpeg
END:VEVENT
BEGIN:VEVENT
DTSTART;TZID=America/New_York:20260421T173000
DTEND;TZID=America/New_York:20260421T190000
DTSTAMP:20260420T062003
CREATED:20260114T173808Z
LAST-MODIFIED:20260312T181555Z
UID:10004257-1776792600-1776798000@newconcord-oh.gov
SUMMARY:Crafty Tuesday: Spring Flower Arrangement
DESCRIPTION:Join us for a special Crafty Tuesday: Spring Flower Arranging Class with the newest business in town – The Flower Shop!\nAn assortment of spring flowers will be available for you to choose from so you can create your own beautiful bouquet – complete with a wide-mouthed Mason jar painted in a pastel color. \nDate: April 21 at 5:30 PM\nLocation: Village Hall lower level\nCost: $30 \nRegister
URL:https://newconcord-oh.gov/event/crafty-tuesday-spring-flower-arrangement/
LOCATION:The Flower Shop\, 36 East Main Street\, New Concord\, 43762\, United States
CATEGORIES:Community Events,NCAARD Events
ATTACH;FMTTYPE=image/jpeg:https://newconcord-oh.gov/wp-content/uploads/2026/01/Pink-Watercolor-Beautiful-Sakura-Flowers-Background-Document-A41.jpg
END:VEVENT
BEGIN:VEVENT
DTSTART;TZID=America/New_York:20260421T190000
DTEND;TZID=America/New_York:20260421T200000
DTSTAMP:20260420T062003
CREATED:20251208T184619Z
LAST-MODIFIED:20260127T181538Z
UID:10004084-1776798000-1776801600@newconcord-oh.gov
SUMMARY:Yoga
DESCRIPTION:Relax with us as certified yoga instructor\, Megyen Green\, leads us through slow postures and deep breathing exercises. Class meets at 7 PM Tuesdays at the United Methodist Church. \nDates:\nWinter Session I: Jan. 6\, 13\, 20 – cancelled\, 27 – Village Hall\, Feb. 3\, added Feb. 12\nSpecial Partner Yoga: Feb. 10\nWinter Session II: Feb. 17\, 24\, Mar. 3\, 10\, 17\nSpring Session I: Mar. 24\, 31\, Apr. 7\, 14\, 21\nSpring Session II: Apr. 28\, May 5\, 12\, 19\, 26 \nPricing:\nOne class = $8\nOne session (5 classes) = $30 ($40 value)\nTwo sessions (10 classes) = $50 ($80 value)\nThree sessions (15 classes) = $70 ($120 value)\nFull winter/spring (20 classes) = $90 ($160 value) \nRegister
URL:https://newconcord-oh.gov/event/yoga/2026-04-21/
LOCATION:United Methodist Church\, 20 East High Street\, NEW CONCORD\, OH\, 43762\, United States
CATEGORIES:NCAARD Events,NCAARD Fitness
ATTACH;FMTTYPE=image/png:https://newconcord-oh.gov/wp-content/uploads/2024/12/IMG_4695.png
END:VEVENT
BEGIN:VEVENT
DTSTART;VALUE=DATE:20260422
DTEND;VALUE=DATE:20260423
DTSTAMP:20260420T062003
CREATED:20260304T165216Z
LAST-MODIFIED:20260419T012500Z
UID:10005198-1776816000-1776902399@newconcord-oh.gov
SUMMARY:Let's Pick It Up New Concord
DESCRIPTION:Help clean up our Village as we celebrate our 20th anniversary of Let’s Pick It Up New Concord! What started in 2006 has grown into a Village tradition that continues to fill our community with pride. Click here to register for specific zones and be sure to include your t-shirt size as our token of appreciation! This year’s shirt will commemorate our 20th anniversary! \nEvent kicks off on Earth Day\, April 22\, and runs through April 30! \nDetails:\n1) Register to help – include zone and shirt size\n2) Clean your zone on a date/time that works for your schedule April 22-30\n3) Supplies can be found at the NCAARD porch located at 4 Comin\n4) Deposit trash in 1 of 3 dumpsters located at the pool\, behind Village Hall\, or Street Dept. (or your home trash bins)\n5) Report # hours (3 people cleaning for 2 hours = 6 community cleanup hours) and post picture under the specific post for the day you helped to clean\n6) Pick up your commemorative shirt for volunteering – details to come (probably May 1)! \nRegister
URL:https://newconcord-oh.gov/event/lets-pick-it-up-new-concord/2026-04-22/
LOCATION:Various locations
CATEGORIES:Community Events,NCAARD Events
ATTACH;FMTTYPE=image/jpeg:https://newconcord-oh.gov/wp-content/uploads/2026/03/Green-and-Black-Moden-Trash-Pickup-Services-Flyer.jpg
END:VEVENT
BEGIN:VEVENT
DTSTART;TZID=America/New_York:20260422T180000
DTEND;TZID=America/New_York:20260422T190000
DTSTAMP:20260420T062003
CREATED:20260330T164733Z
LAST-MODIFIED:20260411T202325Z
UID:10005616-1776880800-1776884400@newconcord-oh.gov
SUMMARY:SRO
DESCRIPTION:East Muskingum School District \nSRO (Standing Room Only) \nPerformances by students in JG Company show choir
URL:https://newconcord-oh.gov/event/sro/
LOCATION:John Glenn High School
CATEGORIES:Community Events
END:VEVENT
BEGIN:VEVENT
DTSTART;TZID=America/New_York:20260423T103000
DTEND;TZID=America/New_York:20260423T113000
DTSTAMP:20260420T062003
CREATED:20251222T182750Z
LAST-MODIFIED:20260330T155444Z
UID:10004392-1776940200-1776943800@newconcord-oh.gov
SUMMARY:NC Library: Family Storytime
DESCRIPTION:For more information and to register\, click on the library page: \nNew Concord Branch
URL:https://newconcord-oh.gov/event/nc-library-family-storytime-2/2026-04-23/
LOCATION:New Concord Branch Library
CATEGORIES:Community Events
ATTACH;FMTTYPE=image/png:https://newconcord-oh.gov/wp-content/uploads/2026/03/Library-Logo.png
END:VEVENT
BEGIN:VEVENT
DTSTART;TZID=America/New_York:20260423T173000
DTEND;TZID=America/New_York:20260423T183000
DTSTAMP:20260420T062003
CREATED:20251208T190236Z
LAST-MODIFIED:20260330T161928Z
UID:10004104-1776965400-1776969000@newconcord-oh.gov
SUMMARY:POUND
DESCRIPTION:Hit those Ripstix and POUND to the beat with Gretchen Combs in this high-energy workout that’s meant to be fun! Class meets at 5:30 PM Thursdays at the United Methodist Church. \n$8 / class or sign up for sessions to save! \nWinter Session I (5 weeks): Jan. 8\, 15\, 22\, 29\, Feb. 5 $30 \nWinter Session II (5 weeks): Feb. 12 (special POUND Unplugged)\, 19\, 26\, Mar. 12\, 19 (no class Mar. 5) $30 \nSpring Session I (5 weeks): Mar. 26\, Apr. 2\, 9\, 16\, 23 $30 \nSpring Session II (5 weeks): Apr. 30\, May 7\, 14\, 21\, 28 $30 \nWe are offering a special POUND Unplugged Feb. 12 within Winter Session II. If you would like to attend and did not sign up for Session II\, the class is a special rate of $5. \nRegister
URL:https://newconcord-oh.gov/event/pound/2026-04-23/
LOCATION:United Methodist Church\, 20 East High Street\, NEW CONCORD\, OH\, 43762\, United States
CATEGORIES:NCAARD Events,NCAARD Fitness
ATTACH;FMTTYPE=image/png:https://newconcord-oh.gov/wp-content/uploads/2024/12/IMG_4697.png
END:VEVENT
BEGIN:VEVENT
DTSTART;TZID=America/New_York:20260425T080000
DTEND;TZID=America/New_York:20260425T085000
DTSTAMP:20260420T062003
CREATED:20260117T025705Z
LAST-MODIFIED:20260330T161103Z
UID:10005611-1777104000-1777107000@newconcord-oh.gov
SUMMARY:NCICC Cycling
DESCRIPTION:The New Concord Indoor Cycling Co-op meets for spin class Saturdays from 8 – 8:50 AM at the Westminster Presbyterian Church led by Kathy Normansell. Drop-ins welcome! Register and pay at class! Text Kathy at 740-607-3060 for information.
URL:https://newconcord-oh.gov/event/ncicc-cycling/2026-04-25/
LOCATION:Westminster Presbyterian Church\, NEW CONCORD\, OH\, 43762\, United States
CATEGORIES:Community Events
ATTACH;FMTTYPE=image/jpeg:https://newconcord-oh.gov/wp-content/uploads/2026/01/IMG_1338.jpeg
END:VEVENT
BEGIN:VEVENT
DTSTART;TZID=America/New_York:20260425T100000
DTEND;TZID=America/New_York:20260425T160000
DTSTAMP:20260420T062003
CREATED:20260330T165110Z
LAST-MODIFIED:20260330T165734Z
UID:10005617-1777111200-1777132800@newconcord-oh.gov
SUMMARY:Zane Grey Family Day
DESCRIPTION:Museum Association
URL:https://newconcord-oh.gov/event/zane-grey-day/
LOCATION:National Road and Zane Grey Museum\, 8850 East Pike\, Norwich\, OH\, 43767\, United States
CATEGORIES:Community Events
ATTACH;FMTTYPE=image/jpeg:https://newconcord-oh.gov/wp-content/uploads/2026/03/Zane-Grey-Family-Day-Flyer-2026.jpg
END:VEVENT
BEGIN:VEVENT
DTSTART;TZID=America/New_York:20260425T110000
DTEND;TZID=America/New_York:20260425T120000
DTSTAMP:20260420T062003
CREATED:20260330T165857Z
LAST-MODIFIED:20260330T165857Z
UID:10005618-1777114800-1777118400@newconcord-oh.gov
SUMMARY:Earth Day Discovery Fest
DESCRIPTION:For more information and to register\, click on the library page: \nNew Concord Branch
URL:https://newconcord-oh.gov/event/earth-day-discovery-fest/
LOCATION:New Concord Branch Library
CATEGORIES:Community Events
ATTACH;FMTTYPE=image/png:https://newconcord-oh.gov/wp-content/uploads/2026/03/Library-Logo.png
END:VEVENT
BEGIN:VEVENT
DTSTART;TZID=America/New_York:20260427T173000
DTEND;TZID=America/New_York:20260427T183000
DTSTAMP:20260420T062003
CREATED:20260126T023306Z
LAST-MODIFIED:20260126T023306Z
UID:10004369-1777311000-1777314600@newconcord-oh.gov
SUMMARY:Infrastructure Committee Meeting
DESCRIPTION:
URL:https://newconcord-oh.gov/event/infrastructure-committee-meeting/2026-04-27/
LOCATION:Village Hall\, 2 W. Main Street\, NEW CONCORD\, OH\, 43762\, United States
CATEGORIES:Public Meetings
END:VEVENT
BEGIN:VEVENT
DTSTART;TZID=America/New_York:20260427T183000
DTEND;TZID=America/New_York:20260427T193000
DTSTAMP:20260420T062003
CREATED:20260126T023150Z
LAST-MODIFIED:20260126T023150Z
UID:10004358-1777314600-1777318200@newconcord-oh.gov
SUMMARY:Village Council Meeting
DESCRIPTION:
URL:https://newconcord-oh.gov/event/village-council-meeting-2/2026-04-27/
LOCATION:Village Hall\, 2 W. Main Street\, NEW CONCORD\, OH\, 43762\, United States
CATEGORIES:Public Meetings
END:VEVENT
BEGIN:VEVENT
DTSTART;TZID=America/New_York:20260427T183000
DTEND;TZID=America/New_York:20260427T203000
DTSTAMP:20260420T062003
CREATED:20251208T220208Z
LAST-MODIFIED:20260209T161241Z
UID:10004142-1777314600-1777321800@newconcord-oh.gov
SUMMARY:Mah Jongg Game Night
DESCRIPTION:Enjoy an evening of strategy\, thinking\, camaraderie\, and fun at Mah Jongg Game Night! We offer a friendly community of gamers who enjoy playing in a low-pressure environment. All are welcome!\nNew to the game? No problem. We have several helpers available to instruct and advise! \nGame nights meet the 2nd and 4th Mondays at 6:30 PM in the United Methodist Church: Jan. 12\, 26 – canceled\, Feb. 9\, 23\, Mar. 9\, 23\, Apr. 13\, 27\, and May 11 \n Register
URL:https://newconcord-oh.gov/event/mahjong-game-night-2/2026-04-27/
LOCATION:United Methodist Church\, 20 East High Street\, NEW CONCORD\, OH\, 43762\, United States
CATEGORIES:Community Events,NCAARD Events
ATTACH;FMTTYPE=image/jpeg:https://newconcord-oh.gov/wp-content/uploads/2025/12/IMG_2137.jpeg
END:VEVENT
BEGIN:VEVENT
DTSTART;TZID=America/New_York:20260428T170000
DTEND;TZID=America/New_York:20260428T180000
DTSTAMP:20260420T062003
CREATED:20260411T203001Z
LAST-MODIFIED:20260411T203103Z
UID:10005631-1777395600-1777399200@newconcord-oh.gov
SUMMARY:When I Grow Up ... Construction Technology Exploration with Mid-East
DESCRIPTION:For more information and to register\, click on the library page: \nNew Concord Branch
URL:https://newconcord-oh.gov/event/when-i-grow-up-construction-technology-exploration-with-mid-east/
LOCATION:New Concord Branch Library
CATEGORIES:Community Events
ATTACH;FMTTYPE=image/png:https://newconcord-oh.gov/wp-content/uploads/2026/03/Library-Logo.png
END:VEVENT
BEGIN:VEVENT
DTSTART;TZID=America/New_York:20260428T190000
DTEND;TZID=America/New_York:20260428T200000
DTSTAMP:20260420T062003
CREATED:20260411T203236Z
LAST-MODIFIED:20260411T203255Z
UID:10005632-1777402800-1777406400@newconcord-oh.gov
SUMMARY:EMMS Spring Music Concert
DESCRIPTION:Band\, Choir\, Orchestra grades 6 – 8
URL:https://newconcord-oh.gov/event/emms-spring-music-concert/
LOCATION:EMMS\, 13120 John Glenn School Road\, NEW CONCORD\, OH\, 43762\, United States
CATEGORIES:Community Events
END:VEVENT
BEGIN:VEVENT
DTSTART;TZID=America/New_York:20260429T190000
DTEND;TZID=America/New_York:20260429T203000
DTSTAMP:20260420T062003
CREATED:20260411T203431Z
LAST-MODIFIED:20260411T203431Z
UID:10005633-1777489200-1777494600@newconcord-oh.gov
SUMMARY:JGHS Spring Music Concert
DESCRIPTION:Band\, Choir\, Orchestra
URL:https://newconcord-oh.gov/event/jghs-spring-music-concert/
LOCATION:John Glenn High School
CATEGORIES:Community Events
END:VEVENT
BEGIN:VEVENT
DTSTART;TZID=America/New_York:20260430T160000
DTEND;TZID=America/New_York:20260430T170000
DTSTAMP:20260420T062003
CREATED:20260411T203555Z
LAST-MODIFIED:20260411T203555Z
UID:10005634-1777564800-1777568400@newconcord-oh.gov
SUMMARY:Mother's Day Make & Take Bouquet
DESCRIPTION:For more information and to register\, click on the library page: \nNew Concord Branch
URL:https://newconcord-oh.gov/event/mothers-day-make-take-bouquet/
LOCATION:OH
CATEGORIES:Community Events
ATTACH;FMTTYPE=image/png:https://newconcord-oh.gov/wp-content/uploads/2026/03/Library-Logo.png
END:VEVENT
BEGIN:VEVENT
DTSTART;VALUE=DATE:20260501
DTEND;VALUE=DATE:20260502
DTSTAMP:20260420T062003
CREATED:20260411T205557Z
LAST-MODIFIED:20260419T012829Z
UID:10005636-1777593600-1777679999@newconcord-oh.gov
SUMMARY:New Concord Blooms
DESCRIPTION:Enjoy and admire the work of many individuals who make up our Village as their colorful water-marbled pinwheels will be on display at 40 different businesses in town (mostly along Main Street) the first two weeks of May! Community members of all ages – from Friendship preschoolers to Beckett House senior citizens – participated to create a colorful community-wide exhibit downtown. \nAdditionally\, with Let’s Pick It Up New Concord completed\, the Village will be sparkling clean! Now is the time to beautify the Village! We encourage families and individuals to designate this time to spruce up their outside with some yardwork and upkeep! The Village Operations will be hanging flower baskets (donated by Friends of New Concord\, Inc.) and working on other outdoor projects including clearing off debris at the S Bridge and steps at the NC Reservoir\, the NCFD will be weeding and doing general outdoor maintenance\, NCAARD will be spreading wildflower seeds at the reservoir\, schools are planning beautification projects like weeding\, mulching\, and planting flowers\, and businesses are getting ready for spring decorating! We hope you will join in the transformation!
URL:https://newconcord-oh.gov/event/new-concord-blooms/2026-05-01/
LOCATION:Main Street\, Main Street\, NEW CONCORD\, OH\, 43762\, United States
CATEGORIES:Community Events,NCAARD Events
ATTACH;FMTTYPE=image/png:https://newconcord-oh.gov/wp-content/uploads/2022/03/New-Concord-Blooms-logo.png
END:VEVENT
BEGIN:VEVENT
DTSTART;TZID=America/New_York:20260501T100000
DTEND;TZID=America/New_York:20260501T160000
DTSTAMP:20260420T062003
CREATED:20260411T203927Z
LAST-MODIFIED:20260411T204226Z
UID:10005635-1777629600-1777651200@newconcord-oh.gov
SUMMARY:Opening Day for Museums
DESCRIPTION:John and Annie Glenn Museum and National Road / Zane Grey Museum open for the season!
URL:https://newconcord-oh.gov/event/opening-day-for-museums/
LOCATION:John and Annie Glenn Museum\, 72 W Main St\, NEW CONCORD\, OH\, 43762\, United States
CATEGORIES:Community Events
ATTACH;FMTTYPE=image/jpeg:https://newconcord-oh.gov/wp-content/uploads/2026/04/IMG_3315.jpeg
END:VEVENT
BEGIN:VEVENT
DTSTART;TZID=America/New_York:20260505T173000
DTEND;TZID=America/New_York:20260505T193000
DTSTAMP:20260420T062003
CREATED:20251217T195623Z
LAST-MODIFIED:20260411T213131Z
UID:10004150-1778002200-1778009400@newconcord-oh.gov
SUMMARY:Crafty Tuesday: Patriotic Paint and Sip
DESCRIPTION:What better way to prepare for America’s 250th birthday than to create an abstract rendition of the United States flag! We hope you will join us in the historic John and Annie Glenn museum for an evening of patriotic and relaxing fun! We will create our one-of-a-kind flag using palette knives on a slate* medium. The museum will be making mocktails\, free with your registration!\n$30  \n**This slate is nearly 200 years old as it served as roofing for our historic Harper’s Cabin! \n Register
URL:https://newconcord-oh.gov/event/crafty-tuesday-patriotic-paint-and-sip/
LOCATION:John and Annie Glenn Museum\, 72 W Main St\, NEW CONCORD\, OH\, 43762\, United States
CATEGORIES:Community Events,NCAARD Events
ATTACH;FMTTYPE=image/jpeg:https://newconcord-oh.gov/wp-content/uploads/2025/12/Paint-Party-Flyer.jpg
END:VEVENT
BEGIN:VEVENT
DTSTART;TZID=America/New_York:20260511T183000
DTEND;TZID=America/New_York:20260511T193000
DTSTAMP:20260420T062003
CREATED:20260126T022903Z
LAST-MODIFIED:20260126T022903Z
UID:10004348-1778524200-1778527800@newconcord-oh.gov
SUMMARY:Village Council Meeting
DESCRIPTION:
URL:https://newconcord-oh.gov/event/village-council-meeting/2026-05-11/
LOCATION:Village Hall\, 2 W. Main Street\, NEW CONCORD\, OH\, 43762\, United States
CATEGORIES:Public Meetings
END:VEVENT
BEGIN:VEVENT
DTSTART;TZID=America/New_York:20260516T090000
DTEND;TZID=America/New_York:20260516T110000
DTSTAMP:20260420T062003
CREATED:20260408T175132Z
LAST-MODIFIED:20260419T011737Z
UID:10005630-1778922000-1778929200@newconcord-oh.gov
SUMMARY:Bird Watching at the Reservoir
DESCRIPTION:Join us for a fascinating morning of birding at the N.C. Reservoir! Guided by newly-appointed President of the Ohio Ornithological Society Bil Kerrigan\, we will explore the many different species who call the reservoir home… during peak migration time! \nPlease bring your own binoculars if you have some (we do have 5 sets we can provided)! \n Register
URL:https://newconcord-oh.gov/event/bird-watching-at-the-reservoir/
LOCATION:New Concord Reservoir\, Shadyside Drive\, NEW CONCORD\, OH\, 43762\, United States
CATEGORIES:Community Events,NCAARD Events
ATTACH;FMTTYPE=image/jpeg:https://newconcord-oh.gov/wp-content/uploads/2023/08/Bird-watching-pic.jpg
END:VEVENT
BEGIN:VEVENT
DTSTART;TZID=America/New_York:20260520T170000
DTEND;TZID=America/New_York:20260520T183000
DTSTAMP:20260420T062003
CREATED:20260129T202019Z
LAST-MODIFIED:20260309T234027Z
UID:10005213-1779296400-1779301800@newconcord-oh.gov
SUMMARY:Community Table
DESCRIPTION:All are welcome to enjoy a complimentary hot meal as well as fellowship the 3rd Wednesday of each month at the United Methodist Church. To-go bags with ingredients to make a meal will also be available for those in need.
URL:https://newconcord-oh.gov/event/community-table/2026-05-20/
LOCATION:United Methodist Church\, 20 East High Street\, NEW CONCORD\, OH\, 43762\, United States
CATEGORIES:Community Events
ATTACH;FMTTYPE=image/jpeg:https://newconcord-oh.gov/wp-content/uploads/2026/01/IMG_1141.jpg
END:VEVENT
BEGIN:VEVENT
DTSTART;TZID=America/New_York:20260609T190000
DTEND;TZID=America/New_York:20260609T210000
DTSTAMP:20260420T062003
CREATED:20260411T210622Z
LAST-MODIFIED:20260411T210727Z
UID:10005650-1781031600-1781038800@newconcord-oh.gov
SUMMARY:Celebrate New Concord
DESCRIPTION:Summer Entertainment Series \nJune 9 – Jake “Barefoot” McCoy\nJune 23 – Haley Bundy\n*July 11 – Muskingum Valley Symphonic Winds  ‘\nJuly 28 – Roscommons Sessions\nAugust 11 – Northwest Territory\nAugust 25 – Tony Hagood Quartet \nAll shows begin at 7 PM at Village Park \n*Special concert in conjunction with the America 250 Celebration 8 PM
URL:https://newconcord-oh.gov/event/celebrate-new-concord/2026-06-09/
LOCATION:Village Park\, 2 W Main St\, NEW CONCORD\, OH\, 43762\, United States
CATEGORIES:Community Events
END:VEVENT
BEGIN:VEVENT
DTSTART;VALUE=DATE:20260618
DTEND;VALUE=DATE:20260619
DTSTAMP:20260420T062003
CREATED:20260328T221457Z
LAST-MODIFIED:20260328T221647Z
UID:10005236-1781740800-1781827199@newconcord-oh.gov
SUMMARY:MU Men's Soccer Youth Camp
DESCRIPTION:K-5
URL:https://newconcord-oh.gov/event/mu-mens-soccer-youth-camp/2026-06-18/
LOCATION:OH
CATEGORIES:Community Events
ATTACH;FMTTYPE=image/jpeg:https://newconcord-oh.gov/wp-content/uploads/2026/03/IMG_3051.jpg
END:VEVENT
BEGIN:VEVENT
DTSTART;TZID=America/New_York:20260628T140000
DTEND;TZID=America/New_York:20260628T160000
DTSTAMP:20260420T062003
CREATED:20260413T145158Z
LAST-MODIFIED:20260413T145739Z
UID:10005658-1782655200-1782662400@newconcord-oh.gov
SUMMARY:Kayak on the Reservoir Day
DESCRIPTION:Join us for an afternoon on the reservoir! Enjoy the outdoors on the water in this beautiful habitat. Kayaks and life vests provided.\nRegister below to reserve your time slot!\n2:00-2:40\n2:40-3:20\n3:20-4:00 \n Register
URL:https://newconcord-oh.gov/event/kayak-on-the-reservoir-day/
LOCATION:New Concord Reservoir\, Shadyside Drive\, NEW CONCORD\, OH\, 43762\, United States
CATEGORIES:Community Events,NCAARD Events
ATTACH;FMTTYPE=image/jpeg:https://newconcord-oh.gov/wp-content/uploads/2024/05/IMG_9502.jpg
END:VEVENT
BEGIN:VEVENT
DTSTART;TZID=America/New_York:20260710T200000
DTEND;TZID=America/New_York:20260710T223000
DTSTAMP:20260420T062003
CREATED:20260411T211031Z
LAST-MODIFIED:20260411T211206Z
UID:10005656-1783713600-1783722600@newconcord-oh.gov
SUMMARY:Summer Outdoor Movie
DESCRIPTION:Bring your chairs and blankets! It’s movie time! This year’s feature is … TBA! \nBe sure to come early to get a good spot AND participate in the pre-movie festivities!
URL:https://newconcord-oh.gov/event/summer-outdoor-movie/
LOCATION:Village Park\, 2 W Main St\, NEW CONCORD\, OH\, 43762\, United States
CATEGORIES:Community Events,NCAARD Events
END:VEVENT
END:VCALENDAR